BEGIN:VCALENDAR
VERSION:2.0
PRODID:-//Busy Bees Pottery &amp; Arts Studio Mentor - ECPv6.15.17.1//NONSGML v1.0//EN
CALSCALE:GREGORIAN
METHOD:PUBLISH
X-WR-CALNAME:Busy Bees Pottery &amp; Arts Studio Mentor
X-ORIGINAL-URL:https://mentor.busybeesart.com
X-WR-CALDESC:Events for Busy Bees Pottery &amp; Arts Studio Mentor
REFRESH-INTERVAL;VALUE=DURATION:PT1H
X-Robots-Tag:noindex
X-PUBLISHED-TTL:PT1H
BEGIN:VTIMEZONE
TZID:America/Detroit
BEGIN:DAYLIGHT
TZOFFSETFROM:-0500
TZOFFSETTO:-0400
TZNAME:EDT
DTSTART:20240310T070000
END:DAYLIGHT
BEGIN:STANDARD
TZOFFSETFROM:-0400
TZOFFSETTO:-0500
TZNAME:EST
DTSTART:20241103T060000
END:STANDARD
BEGIN:DAYLIGHT
TZOFFSETFROM:-0500
TZOFFSETTO:-0400
TZNAME:EDT
DTSTART:20250309T070000
END:DAYLIGHT
BEGIN:STANDARD
TZOFFSETFROM:-0400
TZOFFSETTO:-0500
TZNAME:EST
DTSTART:20251102T060000
END:STANDARD
BEGIN:DAYLIGHT
TZOFFSETFROM:-0500
TZOFFSETTO:-0400
TZNAME:EDT
DTSTART:20260308T070000
END:DAYLIGHT
BEGIN:STANDARD
TZOFFSETFROM:-0400
TZOFFSETTO:-0500
TZNAME:EST
DTSTART:20261101T060000
END:STANDARD
END:VTIMEZONE
BEGIN:VEVENT
DTSTART;TZID=America/Detroit:20251010T180000
DTEND;TZID=America/Detroit:20251010T200000
DTSTAMP:20260423T003039
CREATED:20250925T134347Z
LAST-MODIFIED:20250925T134408Z
UID:209699-1760119200-1760126400@mentor.busybeesart.com
SUMMARY:Adult BYOB: Boos\, Booze and Bingo Pottery Paint Night!
DESCRIPTION:Come out to Busy Bees for a fun night of pottery painting and bingo! Prizes will be given out to winners. Make it a girls night or a date night. Halloween pieces will be available or you can choose from our regular selection. BYOB event\, feel free to bring snacks and drinks (remember to bring paper products and cups for whatever you bring). \nThis is an “adults (18+) only” pottery night. Adults 21+ may byob. $25 registration fee goes towards the cost of your project the night of. Project cost depends on what you choose that night. If project chosen is more that $25 the balance is to be paid before painting\, if project chosen is under $25 no change will be given. Pottery available for pick up 10 days after event.
URL:https://mentor.busybeesart.com/event/boos-booze-and-bingo/
LOCATION:Busy Bees Pottery & Arts Studio\, 7850 Mentor Ave\, Mentor\, OH\, 44060\, United States
CATEGORIES:Adults Only
ATTACH;FMTTYPE=image/jpeg:https://mentor.busybeesart.com/wp-content/uploads/2025/09/Boos-and-Bingo.jpg
END:VEVENT
END:VCALENDAR