BEGIN:VCALENDAR
VERSION:2.0
PRODID:-//Busy Bees Pottery &amp; Arts Studio Mentor - ECPv6.15.17.1//NONSGML v1.0//EN
CALSCALE:GREGORIAN
METHOD:PUBLISH
X-WR-CALNAME:Busy Bees Pottery &amp; Arts Studio Mentor
X-ORIGINAL-URL:https://mentor.busybeesart.com
X-WR-CALDESC:Events for Busy Bees Pottery &amp; Arts Studio Mentor
REFRESH-INTERVAL;VALUE=DURATION:PT1H
X-Robots-Tag:noindex
X-PUBLISHED-TTL:PT1H
BEGIN:VTIMEZONE
TZID:America/Detroit
BEGIN:DAYLIGHT
TZOFFSETFROM:-0500
TZOFFSETTO:-0400
TZNAME:EDT
DTSTART:20240310T070000
END:DAYLIGHT
BEGIN:STANDARD
TZOFFSETFROM:-0400
TZOFFSETTO:-0500
TZNAME:EST
DTSTART:20241103T060000
END:STANDARD
BEGIN:DAYLIGHT
TZOFFSETFROM:-0500
TZOFFSETTO:-0400
TZNAME:EDT
DTSTART:20250309T070000
END:DAYLIGHT
BEGIN:STANDARD
TZOFFSETFROM:-0400
TZOFFSETTO:-0500
TZNAME:EST
DTSTART:20251102T060000
END:STANDARD
BEGIN:DAYLIGHT
TZOFFSETFROM:-0500
TZOFFSETTO:-0400
TZNAME:EDT
DTSTART:20260308T070000
END:DAYLIGHT
BEGIN:STANDARD
TZOFFSETFROM:-0400
TZOFFSETTO:-0500
TZNAME:EST
DTSTART:20261101T060000
END:STANDARD
END:VTIMEZONE
BEGIN:VEVENT
DTSTART;TZID=America/Detroit:20250620T180000
DTEND;TZID=America/Detroit:20250620T193000
DTSTAMP:20260419T212503
CREATED:20220621T191937Z
LAST-MODIFIED:20250611T133348Z
UID:198112-1750442400-1750447800@mentor.busybeesart.com
SUMMARY:Cool Treats Kid's Night Out
DESCRIPTION:Hey Kids!  Sign up to paint your favorite 4th of July treat at the studio! We’re having a Kids Only paint class on Friday\, June 20th. When we’re done painting we’ll play games and have LOTS of fun! \n*This is a parent drop off workshop. Parents drop off their children and come back to pick them up once the workshop is over at 7:30pm.  Minimum participant age is 6 years old. Child must be potty-trained\, be able to follow instructions\, and have completed at least one (1) year of kindergarten (grade school). \nKIDS NIGHT OUT IS HELD WITHIN BUSY BEES’ PARTY ROOM. Main studio space remains open during class. REGISTRATION IS REQUIRED.
URL:https://mentor.busybeesart.com/event/cool-treats-kids-night-out/
LOCATION:Busy Bees Pottery & Arts Studio\, 7850 Mentor Ave\, Mentor\, OH\, 44060\, United States
CATEGORIES:Kids Night Out
ATTACH;FMTTYPE=image/png:https://mentor.busybeesart.com/wp-content/uploads/2022/06/Mentor-Website-graphics-jan-april-2022-3.png
END:VEVENT
END:VCALENDAR