BEGIN:VCALENDAR
VERSION:2.0
PRODID:-//Busy Bees Pottery &amp; Arts Studio Mentor - ECPv6.15.17.1//NONSGML v1.0//EN
CALSCALE:GREGORIAN
METHOD:PUBLISH
X-WR-CALNAME:Busy Bees Pottery &amp; Arts Studio Mentor
X-ORIGINAL-URL:https://mentor.busybeesart.com
X-WR-CALDESC:Events for Busy Bees Pottery &amp; Arts Studio Mentor
REFRESH-INTERVAL;VALUE=DURATION:PT1H
X-Robots-Tag:noindex
X-PUBLISHED-TTL:PT1H
BEGIN:VTIMEZONE
TZID:America/Detroit
BEGIN:DAYLIGHT
TZOFFSETFROM:-0500
TZOFFSETTO:-0400
TZNAME:EDT
DTSTART:20240310T070000
END:DAYLIGHT
BEGIN:STANDARD
TZOFFSETFROM:-0400
TZOFFSETTO:-0500
TZNAME:EST
DTSTART:20241103T060000
END:STANDARD
BEGIN:DAYLIGHT
TZOFFSETFROM:-0500
TZOFFSETTO:-0400
TZNAME:EDT
DTSTART:20250309T070000
END:DAYLIGHT
BEGIN:STANDARD
TZOFFSETFROM:-0400
TZOFFSETTO:-0500
TZNAME:EST
DTSTART:20251102T060000
END:STANDARD
BEGIN:DAYLIGHT
TZOFFSETFROM:-0500
TZOFFSETTO:-0400
TZNAME:EDT
DTSTART:20260308T070000
END:DAYLIGHT
BEGIN:STANDARD
TZOFFSETFROM:-0400
TZOFFSETTO:-0500
TZNAME:EST
DTSTART:20261101T060000
END:STANDARD
END:VTIMEZONE
BEGIN:VEVENT
DTSTART;TZID=America/Detroit:20250322T110000
DTEND;TZID=America/Detroit:20250322T173000
DTSTAMP:20260421T114940
CREATED:20250128T222544Z
LAST-MODIFIED:20250128T222544Z
UID:205477-1742641200-1742664600@mentor.busybeesart.com
SUMMARY:Create Your Favorite Character Day!
DESCRIPTION:Feeling inspired by your favorite character? We are too! Join us to create all things Bluey\, Minion\, and Pua at the studio! The Bees will be on hand to help you and your little one turn any mosaic into an inspired work of art! Let us know if there is a particular character you or child would like to create so we have inspiration ideas ready for you. \nYour $10 deposit will be deducted from the final cost or your pottery order at the studio.
URL:https://mentor.busybeesart.com/event/create-your-favorite-character-day/
LOCATION:Busy Bees Pottery & Arts Studio\, 7850 Mentor Ave\, Mentor\, OH\, 44060\, United States
CATEGORIES:Mosaics,Studio Event
ATTACH;FMTTYPE=image/png:https://mentor.busybeesart.com/wp-content/uploads/2025/01/character-mosiacs-.png
END:VEVENT
END:VCALENDAR