BEGIN:VCALENDAR
VERSION:2.0
PRODID:-//Busy Bees Pottery &amp; Arts Studio Mentor - ECPv6.15.17.1//NONSGML v1.0//EN
CALSCALE:GREGORIAN
METHOD:PUBLISH
X-WR-CALNAME:Busy Bees Pottery &amp; Arts Studio Mentor
X-ORIGINAL-URL:https://mentor.busybeesart.com
X-WR-CALDESC:Events for Busy Bees Pottery &amp; Arts Studio Mentor
REFRESH-INTERVAL;VALUE=DURATION:PT1H
X-Robots-Tag:noindex
X-PUBLISHED-TTL:PT1H
BEGIN:VTIMEZONE
TZID:America/Detroit
BEGIN:DAYLIGHT
TZOFFSETFROM:-0500
TZOFFSETTO:-0400
TZNAME:EDT
DTSTART:20240310T070000
END:DAYLIGHT
BEGIN:STANDARD
TZOFFSETFROM:-0400
TZOFFSETTO:-0500
TZNAME:EST
DTSTART:20241103T060000
END:STANDARD
BEGIN:DAYLIGHT
TZOFFSETFROM:-0500
TZOFFSETTO:-0400
TZNAME:EDT
DTSTART:20250309T070000
END:DAYLIGHT
BEGIN:STANDARD
TZOFFSETFROM:-0400
TZOFFSETTO:-0500
TZNAME:EST
DTSTART:20251102T060000
END:STANDARD
BEGIN:DAYLIGHT
TZOFFSETFROM:-0500
TZOFFSETTO:-0400
TZNAME:EDT
DTSTART:20260308T070000
END:DAYLIGHT
BEGIN:STANDARD
TZOFFSETFROM:-0400
TZOFFSETTO:-0500
TZNAME:EST
DTSTART:20261101T060000
END:STANDARD
END:VTIMEZONE
BEGIN:VEVENT
DTSTART;TZID=America/Detroit:20251123T150000
DTEND;TZID=America/Detroit:20251123T170000
DTSTAMP:20260420T151323
CREATED:20251106T192847Z
LAST-MODIFIED:20251106T192847Z
UID:211808-1763910000-1763917200@mentor.busybeesart.com
SUMMARY:Fall Stoneware Painting Event
DESCRIPTION:Create something beautiful during this specialty class!  Learn how to mask and various glazing techniues. Stoneware is a premium product only be available during classes so make sure you don’t miss this opportunity. Stoneware can be used in cooking\, baking\, microwaved\, and is dishwasher friendly and is gorgeous. \n\nChoose your colors and pieces and Busy Bees will guide you through painting your masterpiece.\n\n*Piece will be available approximately 7-10 days following workshop. Studio remains open during normal business hours.\n\nYour $10 deposit will be applied to your total purchase at the event.
URL:https://mentor.busybeesart.com/event/fall-stoneware-painting-event-2/
LOCATION:Busy Bees Pottery & Arts Studio\, 7850 Mentor Ave\, Mentor\, OH\, 44060\, United States
CATEGORIES:Stoneware Painting
ATTACH;FMTTYPE=image/png:https://mentor.busybeesart.com/wp-content/uploads/2025/11/Fall-Stoneware-1.png
END:VEVENT
END:VCALENDAR