BEGIN:VCALENDAR
VERSION:2.0
PRODID:-//Busy Bees Pottery &amp; Arts Studio Mentor - ECPv6.15.17.1//NONSGML v1.0//EN
CALSCALE:GREGORIAN
METHOD:PUBLISH
X-WR-CALNAME:Busy Bees Pottery &amp; Arts Studio Mentor
X-ORIGINAL-URL:https://mentor.busybeesart.com
X-WR-CALDESC:Events for Busy Bees Pottery &amp; Arts Studio Mentor
REFRESH-INTERVAL;VALUE=DURATION:PT1H
X-Robots-Tag:noindex
X-PUBLISHED-TTL:PT1H
BEGIN:VTIMEZONE
TZID:America/Detroit
BEGIN:DAYLIGHT
TZOFFSETFROM:-0500
TZOFFSETTO:-0400
TZNAME:EDT
DTSTART:20240310T070000
END:DAYLIGHT
BEGIN:STANDARD
TZOFFSETFROM:-0400
TZOFFSETTO:-0500
TZNAME:EST
DTSTART:20241103T060000
END:STANDARD
BEGIN:DAYLIGHT
TZOFFSETFROM:-0500
TZOFFSETTO:-0400
TZNAME:EDT
DTSTART:20250309T070000
END:DAYLIGHT
BEGIN:STANDARD
TZOFFSETFROM:-0400
TZOFFSETTO:-0500
TZNAME:EST
DTSTART:20251102T060000
END:STANDARD
BEGIN:DAYLIGHT
TZOFFSETFROM:-0500
TZOFFSETTO:-0400
TZNAME:EDT
DTSTART:20260308T070000
END:DAYLIGHT
BEGIN:STANDARD
TZOFFSETFROM:-0400
TZOFFSETTO:-0500
TZNAME:EST
DTSTART:20261101T060000
END:STANDARD
END:VTIMEZONE
BEGIN:VEVENT
DTSTART;TZID=America/Detroit:20250608T110000
DTEND;TZID=America/Detroit:20250608T120000
DTSTAMP:20260419T213552
CREATED:20250405T122309Z
LAST-MODIFIED:20250529T112422Z
UID:206229-1749380400-1749384000@mentor.busybeesart.com
SUMMARY:Faux Stained Glass Resin Art!
DESCRIPTION:Create a beautiful suncatcher with the Bees! for painting & crafting fun at the studio. Design & create a stunning suncatcher with fire glass and other mixed materials that will then be resin coated for a gorgeous effect. Choose your design when you arrive at the studio…fireflies\, birds\, hearts\, sunsets\, and more! \nEach $25 ticket includes one suncatcher\, supplies and instruction. Your completed pieces will be available to take home approximately one week after the event.
URL:https://mentor.busybeesart.com/event/faux-stained-glass-resin-art/
LOCATION:Busy Bees Pottery & Arts Studio\, 7850 Mentor Ave\, Mentor\, OH\, 44060\, United States
CATEGORIES:Mixed Media
ATTACH;FMTTYPE=image/png:https://mentor.busybeesart.com/wp-content/uploads/2025/04/faux-stained-glass.png
END:VEVENT
END:VCALENDAR