BEGIN:VCALENDAR
VERSION:2.0
PRODID:-//Busy Bees Pottery &amp; Arts Studio Mentor - ECPv6.15.17.1//NONSGML v1.0//EN
CALSCALE:GREGORIAN
METHOD:PUBLISH
X-WR-CALNAME:Busy Bees Pottery &amp; Arts Studio Mentor
X-ORIGINAL-URL:https://mentor.busybeesart.com
X-WR-CALDESC:Events for Busy Bees Pottery &amp; Arts Studio Mentor
REFRESH-INTERVAL;VALUE=DURATION:PT1H
X-Robots-Tag:noindex
X-PUBLISHED-TTL:PT1H
BEGIN:VTIMEZONE
TZID:America/Detroit
BEGIN:DAYLIGHT
TZOFFSETFROM:-0500
TZOFFSETTO:-0400
TZNAME:EDT
DTSTART:20240310T070000
END:DAYLIGHT
BEGIN:STANDARD
TZOFFSETFROM:-0400
TZOFFSETTO:-0500
TZNAME:EST
DTSTART:20241103T060000
END:STANDARD
BEGIN:DAYLIGHT
TZOFFSETFROM:-0500
TZOFFSETTO:-0400
TZNAME:EDT
DTSTART:20250309T070000
END:DAYLIGHT
BEGIN:STANDARD
TZOFFSETFROM:-0400
TZOFFSETTO:-0500
TZNAME:EST
DTSTART:20251102T060000
END:STANDARD
BEGIN:DAYLIGHT
TZOFFSETFROM:-0500
TZOFFSETTO:-0400
TZNAME:EDT
DTSTART:20260308T070000
END:DAYLIGHT
BEGIN:STANDARD
TZOFFSETFROM:-0400
TZOFFSETTO:-0500
TZNAME:EST
DTSTART:20261101T060000
END:STANDARD
END:VTIMEZONE
BEGIN:VEVENT
DTSTART;TZID=America/Detroit:20250407T173000
DTEND;TZID=America/Detroit:20250407T190000
DTSTAMP:20260424T053524
CREATED:20240321T161946Z
LAST-MODIFIED:20250319T134723Z
UID:203492-1744047000-1744052400@mentor.busybeesart.com
SUMMARY:Clay Gnome Garden Stakes
DESCRIPTION:OMGnome! Gather your friends and learn how to build your own gnome garden stakes from clay!  For the class\, you will get to make 2 stakes (additional can be purchased and made during the class). Design your gnomes with fun embellishments to give them lots of personality! \n\n\n\nClay does need time to dry before firing (7 – 10 days)\, we will contact you to return to the studio to paint when they are ready. \nThis is a BYOB event\, feel free to bring in your favorite snacks and beverages. Registration is required.
URL:https://mentor.busybeesart.com/event/gnome-garden-stakes/
LOCATION:Busy Bees Pottery & Arts Studio\, 7850 Mentor Ave\, Mentor\, OH\, 44060\, United States
CATEGORIES:Clay Hand Building
ATTACH;FMTTYPE=image/png:https://mentor.busybeesart.com/wp-content/uploads/2024/03/clay-gnome-garden-stakes.png
END:VEVENT
END:VCALENDAR