BEGIN:VCALENDAR
VERSION:2.0
PRODID:-//Busy Bees Pottery &amp; Arts Studio Mentor - ECPv6.15.17.1//NONSGML v1.0//EN
CALSCALE:GREGORIAN
METHOD:PUBLISH
X-WR-CALNAME:Busy Bees Pottery &amp; Arts Studio Mentor
X-ORIGINAL-URL:https://mentor.busybeesart.com
X-WR-CALDESC:Events for Busy Bees Pottery &amp; Arts Studio Mentor
REFRESH-INTERVAL;VALUE=DURATION:PT1H
X-Robots-Tag:noindex
X-PUBLISHED-TTL:PT1H
BEGIN:VTIMEZONE
TZID:America/Detroit
BEGIN:DAYLIGHT
TZOFFSETFROM:-0500
TZOFFSETTO:-0400
TZNAME:EDT
DTSTART:20210314T070000
END:DAYLIGHT
BEGIN:STANDARD
TZOFFSETFROM:-0400
TZOFFSETTO:-0500
TZNAME:EST
DTSTART:20211107T060000
END:STANDARD
BEGIN:DAYLIGHT
TZOFFSETFROM:-0500
TZOFFSETTO:-0400
TZNAME:EDT
DTSTART:20220313T070000
END:DAYLIGHT
BEGIN:STANDARD
TZOFFSETFROM:-0400
TZOFFSETTO:-0500
TZNAME:EST
DTSTART:20221106T060000
END:STANDARD
BEGIN:DAYLIGHT
TZOFFSETFROM:-0500
TZOFFSETTO:-0400
TZNAME:EDT
DTSTART:20230312T070000
END:DAYLIGHT
BEGIN:STANDARD
TZOFFSETFROM:-0400
TZOFFSETTO:-0500
TZNAME:EST
DTSTART:20231105T060000
END:STANDARD
END:VTIMEZONE
BEGIN:VEVENT
DTSTART;TZID=America/Detroit:20220202T180000
DTEND;TZID=America/Detroit:20220202T193000
DTSTAMP:20260423T054238
CREATED:20220115T185608Z
LAST-MODIFIED:20220118T161553Z
UID:196713-1643824800-1643830200@mentor.busybeesart.com
SUMMARY:Heart to Heart Glass Fusing Coaster Workshop
DESCRIPTION:Love is buzzing in the air here at the studio! Join the Bees for a creative evening creating this lovable 2 coaster fused glass set. \nThe Bees will instruct you on the techniques used to make these simple frit painted heart coasters\, but you are welcome to customize your coasters with different colors or designs if you wish! \nYour $31 ticket includes two 4″ glass coasters\, supplies and firing. \nFinished projects will be ready for pickup approximately 7-10 days after workshop. \n 
URL:https://mentor.busybeesart.com/event/heart-to-heart-glass-fusing-coaster-workshop/
LOCATION:Busy Bees Pottery & Arts Studio\, 7850 Mentor Ave\, Mentor\, OH\, 44060\, United States
CATEGORIES:Glass Fusing
ATTACH;FMTTYPE=image/png:https://mentor.busybeesart.com/wp-content/uploads/2022/01/Mentor-Website-graphics-janfeb-1.png
END:VEVENT
END:VCALENDAR