BEGIN:VCALENDAR
VERSION:2.0
PRODID:-//Busy Bees Pottery &amp; Arts Studio Mentor - ECPv6.15.17.1//NONSGML v1.0//EN
CALSCALE:GREGORIAN
METHOD:PUBLISH
X-WR-CALNAME:Busy Bees Pottery &amp; Arts Studio Mentor
X-ORIGINAL-URL:https://mentor.busybeesart.com
X-WR-CALDESC:Events for Busy Bees Pottery &amp; Arts Studio Mentor
REFRESH-INTERVAL;VALUE=DURATION:PT1H
X-Robots-Tag:noindex
X-PUBLISHED-TTL:PT1H
BEGIN:VTIMEZONE
TZID:America/Detroit
BEGIN:DAYLIGHT
TZOFFSETFROM:-0500
TZOFFSETTO:-0400
TZNAME:EDT
DTSTART:20190310T070000
END:DAYLIGHT
BEGIN:STANDARD
TZOFFSETFROM:-0400
TZOFFSETTO:-0500
TZNAME:EST
DTSTART:20191103T060000
END:STANDARD
BEGIN:DAYLIGHT
TZOFFSETFROM:-0500
TZOFFSETTO:-0400
TZNAME:EDT
DTSTART:20200308T070000
END:DAYLIGHT
BEGIN:STANDARD
TZOFFSETFROM:-0400
TZOFFSETTO:-0500
TZNAME:EST
DTSTART:20201101T060000
END:STANDARD
BEGIN:DAYLIGHT
TZOFFSETFROM:-0500
TZOFFSETTO:-0400
TZNAME:EDT
DTSTART:20210314T070000
END:DAYLIGHT
BEGIN:STANDARD
TZOFFSETFROM:-0400
TZOFFSETTO:-0500
TZNAME:EST
DTSTART:20211107T060000
END:STANDARD
END:VTIMEZONE
BEGIN:VEVENT
DTSTART;TZID=America/Detroit:20201208T170000
DTEND;TZID=America/Detroit:20201208T190000
DTSTAMP:20260422T083930
CREATED:20201124T230720Z
LAST-MODIFIED:20201124T230720Z
UID:191170-1607446800-1607454000@mentor.busybeesart.com
SUMMARY:Holiday Gnome Serving Dish
DESCRIPTION:Create a whimsical winter serving dish influenced by our favorite gnomes!  Various size and shapes of platters\, bowls\, and servers can be chosen from during the class. The Bees art staff will assist in helping you paint gnomes and snowmen (our favorites!) during this pottery painting class. \nPay $10 reservation fee then balance for project on day of workshop. Workshop includes all supplies (pottery\, and use of paints and brushes) and instruction. Piece will be available to take home approximately one week after the workshop.
URL:https://mentor.busybeesart.com/event/holiday-gnome-serving-dish/
LOCATION:Busy Bees Pottery & Arts Studio\, 7850 Mentor Ave\, Mentor\, OH\, 44060\, United States
CATEGORIES:Pottery Painting
ATTACH;FMTTYPE=image/png:https://mentor.busybeesart.com/wp-content/uploads/2020/09/Winter-Pottery-Event.png
END:VEVENT
END:VCALENDAR