BEGIN:VCALENDAR
VERSION:2.0
PRODID:-//Busy Bees Pottery &amp; Arts Studio Mentor - ECPv6.15.17.1//NONSGML v1.0//EN
CALSCALE:GREGORIAN
METHOD:PUBLISH
X-WR-CALNAME:Busy Bees Pottery &amp; Arts Studio Mentor
X-ORIGINAL-URL:https://mentor.busybeesart.com
X-WR-CALDESC:Events for Busy Bees Pottery &amp; Arts Studio Mentor
REFRESH-INTERVAL;VALUE=DURATION:PT1H
X-Robots-Tag:noindex
X-PUBLISHED-TTL:PT1H
BEGIN:VTIMEZONE
TZID:America/Detroit
BEGIN:DAYLIGHT
TZOFFSETFROM:-0500
TZOFFSETTO:-0400
TZNAME:EDT
DTSTART:20200308T070000
END:DAYLIGHT
BEGIN:STANDARD
TZOFFSETFROM:-0400
TZOFFSETTO:-0500
TZNAME:EST
DTSTART:20201101T060000
END:STANDARD
BEGIN:DAYLIGHT
TZOFFSETFROM:-0500
TZOFFSETTO:-0400
TZNAME:EDT
DTSTART:20210314T070000
END:DAYLIGHT
BEGIN:STANDARD
TZOFFSETFROM:-0400
TZOFFSETTO:-0500
TZNAME:EST
DTSTART:20211107T060000
END:STANDARD
BEGIN:DAYLIGHT
TZOFFSETFROM:-0500
TZOFFSETTO:-0400
TZNAME:EDT
DTSTART:20220313T070000
END:DAYLIGHT
BEGIN:STANDARD
TZOFFSETFROM:-0400
TZOFFSETTO:-0500
TZNAME:EST
DTSTART:20221106T060000
END:STANDARD
END:VTIMEZONE
BEGIN:VEVENT
DTSTART;TZID=America/Detroit:20210312T173000
DTEND;TZID=America/Detroit:20210312T190000
DTSTAMP:20260421T190546
CREATED:20210210T170457Z
LAST-MODIFIED:20210302T181015Z
UID:192592-1615570200-1615575600@mentor.busybeesart.com
SUMMARY:Kids Night Out | Canvas Painting Class
DESCRIPTION:Kids\, join us for a fun night out! We will be painting this super spectacular canvas\, Paddy O’Gnome. Afterwards we will play games and win fun prizes! \n*In compliance with the State of Ohio\, children over 10 must wear their masks the entire event.* Each child will be seated at their own individual table 6 feet apart from others (unless they are siblings that wish to be seated together). \n*This is a parent drop off workshop. Parents drop off their children and come back to pick them up once the workshop is over at 7:00pm. Project will be available to take home after the workshop.
URL:https://mentor.busybeesart.com/event/kids-night-out-canvas-painting-class/
LOCATION:Busy Bees Pottery & Arts Studio\, 7850 Mentor Ave\, Mentor\, OH\, 44060\, United States
CATEGORIES:Kids Night Out
ATTACH;FMTTYPE=image/jpeg:https://mentor.busybeesart.com/wp-content/uploads/2021/02/Paddy-OGnome.jpg
END:VEVENT
END:VCALENDAR