BEGIN:VCALENDAR
VERSION:2.0
PRODID:-//Busy Bees Pottery &amp; Arts Studio Mentor - ECPv6.15.17.1//NONSGML v1.0//EN
CALSCALE:GREGORIAN
METHOD:PUBLISH
X-WR-CALNAME:Busy Bees Pottery &amp; Arts Studio Mentor
X-ORIGINAL-URL:https://mentor.busybeesart.com
X-WR-CALDESC:Events for Busy Bees Pottery &amp; Arts Studio Mentor
REFRESH-INTERVAL;VALUE=DURATION:PT1H
X-Robots-Tag:noindex
X-PUBLISHED-TTL:PT1H
BEGIN:VTIMEZONE
TZID:America/Detroit
BEGIN:DAYLIGHT
TZOFFSETFROM:-0500
TZOFFSETTO:-0400
TZNAME:EDT
DTSTART:20200308T070000
END:DAYLIGHT
BEGIN:STANDARD
TZOFFSETFROM:-0400
TZOFFSETTO:-0500
TZNAME:EST
DTSTART:20201101T060000
END:STANDARD
BEGIN:DAYLIGHT
TZOFFSETFROM:-0500
TZOFFSETTO:-0400
TZNAME:EDT
DTSTART:20210314T070000
END:DAYLIGHT
BEGIN:STANDARD
TZOFFSETFROM:-0400
TZOFFSETTO:-0500
TZNAME:EST
DTSTART:20211107T060000
END:STANDARD
BEGIN:DAYLIGHT
TZOFFSETFROM:-0500
TZOFFSETTO:-0400
TZNAME:EDT
DTSTART:20220313T070000
END:DAYLIGHT
BEGIN:STANDARD
TZOFFSETFROM:-0400
TZOFFSETTO:-0500
TZNAME:EST
DTSTART:20221106T060000
END:STANDARD
END:VTIMEZONE
BEGIN:VEVENT
DTSTART;TZID=America/Detroit:20211014T180000
DTEND;TZID=America/Detroit:20211014T200000
DTSTAMP:20260423T184727
CREATED:20210904T184331Z
LAST-MODIFIED:20211001T151825Z
UID:195020-1634234400-1634241600@mentor.busybeesart.com
SUMMARY:Ladies Night Out: Candi & Corn Board Art
DESCRIPTION:Looking to create the perfect new piece of décor for your mantle\, porch or fireplace?! Join the Bees today from 6pm – 8pm to create the perfect 10×10 board addition to your home! \nThis is a BYOB event\, feel free to bring your favorite beverages and snacks to enjoy during class. \n*Your project will be ready to go home with you the same day
URL:https://mentor.busybeesart.com/event/ladies-night-out-candi-corn-board-art/
LOCATION:Busy Bees Pottery & Arts Studio\, 7850 Mentor Ave\, Mentor\, OH\, 44060\, United States
CATEGORIES:Board Art
ATTACH;FMTTYPE=image/png:https://mentor.busybeesart.com/wp-content/uploads/2021/09/October-2021-Site.png
END:VEVENT
END:VCALENDAR