BEGIN:VCALENDAR
VERSION:2.0
PRODID:-//Busy Bees Pottery &amp; Arts Studio Mentor - ECPv6.15.17.1//NONSGML v1.0//EN
CALSCALE:GREGORIAN
METHOD:PUBLISH
X-WR-CALNAME:Busy Bees Pottery &amp; Arts Studio Mentor
X-ORIGINAL-URL:https://mentor.busybeesart.com
X-WR-CALDESC:Events for Busy Bees Pottery &amp; Arts Studio Mentor
REFRESH-INTERVAL;VALUE=DURATION:PT1H
X-Robots-Tag:noindex
X-PUBLISHED-TTL:PT1H
BEGIN:VTIMEZONE
TZID:America/Detroit
BEGIN:DAYLIGHT
TZOFFSETFROM:-0500
TZOFFSETTO:-0400
TZNAME:EDT
DTSTART:20240310T070000
END:DAYLIGHT
BEGIN:STANDARD
TZOFFSETFROM:-0400
TZOFFSETTO:-0500
TZNAME:EST
DTSTART:20241103T060000
END:STANDARD
BEGIN:DAYLIGHT
TZOFFSETFROM:-0500
TZOFFSETTO:-0400
TZNAME:EDT
DTSTART:20250309T070000
END:DAYLIGHT
BEGIN:STANDARD
TZOFFSETFROM:-0400
TZOFFSETTO:-0500
TZNAME:EST
DTSTART:20251102T060000
END:STANDARD
BEGIN:DAYLIGHT
TZOFFSETFROM:-0500
TZOFFSETTO:-0400
TZNAME:EDT
DTSTART:20260308T070000
END:DAYLIGHT
BEGIN:STANDARD
TZOFFSETFROM:-0400
TZOFFSETTO:-0500
TZNAME:EST
DTSTART:20261101T060000
END:STANDARD
END:VTIMEZONE
BEGIN:VEVENT
DTSTART;TZID=America/Detroit:20250604T180000
DTEND;TZID=America/Detroit:20250604T193000
DTSTAMP:20260424T015414
CREATED:20250513T153903Z
LAST-MODIFIED:20250519T132151Z
UID:206552-1749060000-1749065400@mentor.busybeesart.com
SUMMARY:Canvas & Cocktails at Billy's Martini Bar: Mushroom Medley
DESCRIPTION:Gather your friends & family and join the Bees at Billy’s Martini Bar for an Adult’s Only Night Out to paint this whimsical canvas\, “Mushroom Medley”. The Bees will guide you through the painting step-by-step to create your own masterpiece. Paintings will be completed and ready to take home at the conclusion of the event. Billy’s will be offering great specials\, too! Come early to get your drink and food orders in\, painting starts promptly at 6pm! \n\n*REGISTRATION IS REQUIRED*
URL:https://mentor.busybeesart.com/event/mushroom-medley/
LOCATION:Billy’s Martini Bar\, 7338 INDUSTRIAL PARK BOULEVARD\, Mentor\, OH\, 44060\, United States
CATEGORIES:Adults Only,Canvas Painting
ATTACH;FMTTYPE=image/png:https://mentor.busybeesart.com/wp-content/uploads/2025/05/mushroom-medley.png
END:VEVENT
END:VCALENDAR