BEGIN:VCALENDAR
VERSION:2.0
PRODID:-//Busy Bees Pottery &amp; Arts Studio Mentor - ECPv6.15.17.1//NONSGML v1.0//EN
CALSCALE:GREGORIAN
METHOD:PUBLISH
X-WR-CALNAME:Busy Bees Pottery &amp; Arts Studio Mentor
X-ORIGINAL-URL:https://mentor.busybeesart.com
X-WR-CALDESC:Events for Busy Bees Pottery &amp; Arts Studio Mentor
REFRESH-INTERVAL;VALUE=DURATION:PT1H
X-Robots-Tag:noindex
X-PUBLISHED-TTL:PT1H
BEGIN:VTIMEZONE
TZID:America/Detroit
BEGIN:DAYLIGHT
TZOFFSETFROM:-0500
TZOFFSETTO:-0400
TZNAME:EDT
DTSTART:20240310T070000
END:DAYLIGHT
BEGIN:STANDARD
TZOFFSETFROM:-0400
TZOFFSETTO:-0500
TZNAME:EST
DTSTART:20241103T060000
END:STANDARD
BEGIN:DAYLIGHT
TZOFFSETFROM:-0500
TZOFFSETTO:-0400
TZNAME:EDT
DTSTART:20250309T070000
END:DAYLIGHT
BEGIN:STANDARD
TZOFFSETFROM:-0400
TZOFFSETTO:-0500
TZNAME:EST
DTSTART:20251102T060000
END:STANDARD
BEGIN:DAYLIGHT
TZOFFSETFROM:-0500
TZOFFSETTO:-0400
TZNAME:EDT
DTSTART:20260308T070000
END:DAYLIGHT
BEGIN:STANDARD
TZOFFSETFROM:-0400
TZOFFSETTO:-0500
TZNAME:EST
DTSTART:20261101T060000
END:STANDARD
END:VTIMEZONE
BEGIN:VEVENT
DTSTART;TZID=America/Detroit:20251125T183000
DTEND;TZID=America/Detroit:20251125T200000
DTSTAMP:20260419T225043
CREATED:20251106T194025Z
LAST-MODIFIED:20251106T194025Z
UID:211813-1764095400-1764100800@mentor.busybeesart.com
SUMMARY:Paint & Sip: Farmhouse Pumpkin
DESCRIPTION:Join The Bees at the studio for an instructor led Paint & Sip! During this class you will learn how to create this seasonal canvas\, “Farmhouse Pumpkin” on canvas. \n*This is a  BYOB event\, feel free to bring snacks and drinks (remember to bring paper products and cups for whatever you bring). Canvas will be available to take home at the end of class.
URL:https://mentor.busybeesart.com/event/paint-sip-farmhouse-pumpkin/
LOCATION:Busy Bees Pottery & Arts Studio\, 7850 Mentor Ave\, Mentor\, OH\, 44060\, United States
CATEGORIES:Canvas Painting
ATTACH;FMTTYPE=image/png:https://mentor.busybeesart.com/wp-content/uploads/2025/11/Farmhouse-Pumpkin-Canvas-2.png
END:VEVENT
END:VCALENDAR