BEGIN:VCALENDAR
VERSION:2.0
PRODID:-//Busy Bees Pottery &amp; Arts Studio Mentor - ECPv6.15.17.1//NONSGML v1.0//EN
CALSCALE:GREGORIAN
METHOD:PUBLISH
X-WR-CALNAME:Busy Bees Pottery &amp; Arts Studio Mentor
X-ORIGINAL-URL:https://mentor.busybeesart.com
X-WR-CALDESC:Events for Busy Bees Pottery &amp; Arts Studio Mentor
REFRESH-INTERVAL;VALUE=DURATION:PT1H
X-Robots-Tag:noindex
X-PUBLISHED-TTL:PT1H
BEGIN:VTIMEZONE
TZID:America/Detroit
BEGIN:DAYLIGHT
TZOFFSETFROM:-0500
TZOFFSETTO:-0400
TZNAME:EDT
DTSTART:20240310T070000
END:DAYLIGHT
BEGIN:STANDARD
TZOFFSETFROM:-0400
TZOFFSETTO:-0500
TZNAME:EST
DTSTART:20241103T060000
END:STANDARD
BEGIN:DAYLIGHT
TZOFFSETFROM:-0500
TZOFFSETTO:-0400
TZNAME:EDT
DTSTART:20250309T070000
END:DAYLIGHT
BEGIN:STANDARD
TZOFFSETFROM:-0400
TZOFFSETTO:-0500
TZNAME:EST
DTSTART:20251102T060000
END:STANDARD
BEGIN:DAYLIGHT
TZOFFSETFROM:-0500
TZOFFSETTO:-0400
TZNAME:EDT
DTSTART:20260308T070000
END:DAYLIGHT
BEGIN:STANDARD
TZOFFSETFROM:-0400
TZOFFSETTO:-0500
TZNAME:EST
DTSTART:20261101T060000
END:STANDARD
END:VTIMEZONE
BEGIN:VEVENT
DTSTART;TZID=America/Detroit:20250618T180000
DTEND;TZID=America/Detroit:20250618T193000
DTSTAMP:20260420T011109
CREATED:20210408T165517Z
LAST-MODIFIED:20250610T110735Z
UID:193503-1750269600-1750275000@mentor.busybeesart.com
SUMMARY:Potty Mouth Pottery Painting Event
DESCRIPTION:ADULTS ONLY* have your “Wined Down Wednesday” night here at Busy Bees. Get Naughty with us and paint some “Potty Mouth” pottery. We will have plenty of bad word stencils and scandalous projects to choose from! Not into potty mouth? Well come on out anyway and paint whatever the $@#% you want on some pottery our staff will help you! \nThis is a BYOB event\, feel free to bring snacks and drinks (remember to bring paper products and cups for whatever you bring). This is an adults only pottery night\, while we will have “potty mouth” projects available for you to choose from\, you can also just choose to do any piece of pottery and paint it however you want. \n$10 registration fee goes towards the cost of your project the night of\, balance paid at the event. Project cost depends on what you choose that night.
URL:https://mentor.busybeesart.com/event/potty-mouth-pottery-painting-event/
LOCATION:Busy Bees Pottery & Arts Studio\, 7850 Mentor Ave\, Mentor\, OH\, 44060\, United States
CATEGORIES:Adults Only,Pottery Painting
ATTACH;FMTTYPE=image/jpeg:https://mentor.busybeesart.com/wp-content/uploads/2021/04/Potty-Mouth.jpg
END:VEVENT
END:VCALENDAR