BEGIN:VCALENDAR
VERSION:2.0
PRODID:-//Busy Bees Pottery &amp; Arts Studio Mentor - ECPv6.15.17.1//NONSGML v1.0//EN
CALSCALE:GREGORIAN
METHOD:PUBLISH
X-WR-CALNAME:Busy Bees Pottery &amp; Arts Studio Mentor
X-ORIGINAL-URL:https://mentor.busybeesart.com
X-WR-CALDESC:Events for Busy Bees Pottery &amp; Arts Studio Mentor
REFRESH-INTERVAL;VALUE=DURATION:PT1H
X-Robots-Tag:noindex
X-PUBLISHED-TTL:PT1H
BEGIN:VTIMEZONE
TZID:America/Detroit
BEGIN:DAYLIGHT
TZOFFSETFROM:-0500
TZOFFSETTO:-0400
TZNAME:EDT
DTSTART:20230312T070000
END:DAYLIGHT
BEGIN:STANDARD
TZOFFSETFROM:-0400
TZOFFSETTO:-0500
TZNAME:EST
DTSTART:20231105T060000
END:STANDARD
BEGIN:DAYLIGHT
TZOFFSETFROM:-0500
TZOFFSETTO:-0400
TZNAME:EDT
DTSTART:20240310T070000
END:DAYLIGHT
BEGIN:STANDARD
TZOFFSETFROM:-0400
TZOFFSETTO:-0500
TZNAME:EST
DTSTART:20241103T060000
END:STANDARD
BEGIN:DAYLIGHT
TZOFFSETFROM:-0500
TZOFFSETTO:-0400
TZNAME:EDT
DTSTART:20250309T070000
END:DAYLIGHT
BEGIN:STANDARD
TZOFFSETFROM:-0400
TZOFFSETTO:-0500
TZNAME:EST
DTSTART:20251102T060000
END:STANDARD
END:VTIMEZONE
BEGIN:VEVENT
DTSTART;TZID=America/Detroit:20241205T180000
DTEND;TZID=America/Detroit:20241205T200000
DTSTAMP:20260423T081656
CREATED:20241022T133445Z
LAST-MODIFIED:20241119T143820Z
UID:204820-1733421600-1733428800@mentor.busybeesart.com
SUMMARY:Sea Glass Grinch Trees!
DESCRIPTION:Create a Sea Glass Grinch Lit Tree! Using sea glass\, build and create a whimsical holiday lit trees. All supplies are included are included in the ticket pricing\, including a ornament bulb to top your tree! Choose from a variety of glass colors; greens\, blues\, purples\, pinks\, and more! Choose your tree size while registering below. \nThis is a BYOB event\, feel free to bring in your favorite snacks and beverages to enjoy during class.
URL:https://mentor.busybeesart.com/event/sea-glass-grinch-trees/
LOCATION:Busy Bees Pottery & Arts Studio\, 7850 Mentor Ave\, Mentor\, OH\, 44060\, United States
CATEGORIES:Mixed Media
ATTACH;FMTTYPE=image/png:https://mentor.busybeesart.com/wp-content/uploads/2024/10/grinch-trees.png
END:VEVENT
END:VCALENDAR