BEGIN:VCALENDAR
VERSION:2.0
PRODID:-//Busy Bees Pottery &amp; Arts Studio Mentor - ECPv6.15.17.1//NONSGML v1.0//EN
CALSCALE:GREGORIAN
METHOD:PUBLISH
X-WR-CALNAME:Busy Bees Pottery &amp; Arts Studio Mentor
X-ORIGINAL-URL:https://mentor.busybeesart.com
X-WR-CALDESC:Events for Busy Bees Pottery &amp; Arts Studio Mentor
REFRESH-INTERVAL;VALUE=DURATION:PT1H
X-Robots-Tag:noindex
X-PUBLISHED-TTL:PT1H
BEGIN:VTIMEZONE
TZID:America/Detroit
BEGIN:DAYLIGHT
TZOFFSETFROM:-0500
TZOFFSETTO:-0400
TZNAME:EDT
DTSTART:20230312T070000
END:DAYLIGHT
BEGIN:STANDARD
TZOFFSETFROM:-0400
TZOFFSETTO:-0500
TZNAME:EST
DTSTART:20231105T060000
END:STANDARD
BEGIN:DAYLIGHT
TZOFFSETFROM:-0500
TZOFFSETTO:-0400
TZNAME:EDT
DTSTART:20240310T070000
END:DAYLIGHT
BEGIN:STANDARD
TZOFFSETFROM:-0400
TZOFFSETTO:-0500
TZNAME:EST
DTSTART:20241103T060000
END:STANDARD
BEGIN:DAYLIGHT
TZOFFSETFROM:-0500
TZOFFSETTO:-0400
TZNAME:EDT
DTSTART:20250309T070000
END:DAYLIGHT
BEGIN:STANDARD
TZOFFSETFROM:-0400
TZOFFSETTO:-0500
TZNAME:EST
DTSTART:20251102T060000
END:STANDARD
END:VTIMEZONE
BEGIN:VEVENT
DTSTART;TZID=America/Detroit:20241204T180000
DTEND;TZID=America/Detroit:20241204T193000
DTSTAMP:20260420T062617
CREATED:20241102T160903Z
LAST-MODIFIED:20241102T160903Z
UID:204892-1733335200-1733340600@mentor.busybeesart.com
SUMMARY:Set of Glass Fusing Holiday Trees
DESCRIPTION:Learn the art of glass fusing at Busy Bees! Build a set of 3 glass fusing trees and paint a pot for your tree stand. During class you will build 2 3″ trees and 1 4″ tree using a variety of colors and textures. When you’re done building\, paint your pots and Busy Bees will do the rest. Class price includes instruction\, materials\, supplies\, and kiln firing. \nTrees will be avaialbe for pick up approximately one week after class.
URL:https://mentor.busybeesart.com/event/set-of-glass-fusing-holiday-trees/
LOCATION:Busy Bees Pottery & Arts Studio\, 7850 Mentor Ave\, Mentor\, OH\, 44060\, United States
CATEGORIES:Glass Fusing
ATTACH;FMTTYPE=image/png:https://mentor.busybeesart.com/wp-content/uploads/2024/11/Glass-fusing-christmas-trees-1.png
END:VEVENT
END:VCALENDAR