BEGIN:VCALENDAR
VERSION:2.0
PRODID:-//Busy Bees Pottery &amp; Arts Studio Mentor - ECPv6.15.17.1//NONSGML v1.0//EN
CALSCALE:GREGORIAN
METHOD:PUBLISH
X-WR-CALNAME:Busy Bees Pottery &amp; Arts Studio Mentor
X-ORIGINAL-URL:https://mentor.busybeesart.com
X-WR-CALDESC:Events for Busy Bees Pottery &amp; Arts Studio Mentor
REFRESH-INTERVAL;VALUE=DURATION:PT1H
X-Robots-Tag:noindex
X-PUBLISHED-TTL:PT1H
BEGIN:VTIMEZONE
TZID:America/Detroit
BEGIN:DAYLIGHT
TZOFFSETFROM:-0500
TZOFFSETTO:-0400
TZNAME:EDT
DTSTART:20240310T070000
END:DAYLIGHT
BEGIN:STANDARD
TZOFFSETFROM:-0400
TZOFFSETTO:-0500
TZNAME:EST
DTSTART:20241103T060000
END:STANDARD
BEGIN:DAYLIGHT
TZOFFSETFROM:-0500
TZOFFSETTO:-0400
TZNAME:EDT
DTSTART:20250309T070000
END:DAYLIGHT
BEGIN:STANDARD
TZOFFSETFROM:-0400
TZOFFSETTO:-0500
TZNAME:EST
DTSTART:20251102T060000
END:STANDARD
BEGIN:DAYLIGHT
TZOFFSETFROM:-0500
TZOFFSETTO:-0400
TZNAME:EDT
DTSTART:20260308T070000
END:DAYLIGHT
BEGIN:STANDARD
TZOFFSETFROM:-0400
TZOFFSETTO:-0500
TZNAME:EST
DTSTART:20261101T060000
END:STANDARD
END:VTIMEZONE
BEGIN:VEVENT
DTSTART;TZID=America/Detroit:20251005T150000
DTEND;TZID=America/Detroit:20251005T170000
DTSTAMP:20260420T034608
CREATED:20250924T210824Z
LAST-MODIFIED:20250925T131413Z
UID:209644-1759676400-1759683600@mentor.busybeesart.com
SUMMARY:Spooky Sea Glass Tree Class
DESCRIPTION:Create a hauntingly beautiful Sea Glass Lit Tree with the Bees! We are excited to offer this class using sea glass to build a festive lit tree. All supplies are included are included in the ticket pricing\, including a star or other theme topper for your tree! Choose from a variety of glass colors; greens\, blues\, purples\, pinks\, and more! Choose your tree size while registering below. \nThis is a BYOB event\, feel free to bring in your favorite snacks and beverages to enjoy during class.
URL:https://mentor.busybeesart.com/event/spooky-sea-glass-tree-class/
LOCATION:Busy Bees Pottery & Arts Studio\, 7850 Mentor Ave\, Mentor\, OH\, 44060\, United States
CATEGORIES:Sea Glass
ATTACH;FMTTYPE=image/png:https://mentor.busybeesart.com/wp-content/uploads/2025/09/Website-Halloween-Sea-Glass-Trees.png
END:VEVENT
END:VCALENDAR