BEGIN:VCALENDAR
VERSION:2.0
PRODID:-//Busy Bees Pottery &amp; Arts Studio Mentor - ECPv6.15.17.1//NONSGML v1.0//EN
CALSCALE:GREGORIAN
METHOD:PUBLISH
X-WR-CALNAME:Busy Bees Pottery &amp; Arts Studio Mentor
X-ORIGINAL-URL:https://mentor.busybeesart.com
X-WR-CALDESC:Events for Busy Bees Pottery &amp; Arts Studio Mentor
REFRESH-INTERVAL;VALUE=DURATION:PT1H
X-Robots-Tag:noindex
X-PUBLISHED-TTL:PT1H
BEGIN:VTIMEZONE
TZID:America/Detroit
BEGIN:DAYLIGHT
TZOFFSETFROM:-0500
TZOFFSETTO:-0400
TZNAME:EDT
DTSTART:20200308T070000
END:DAYLIGHT
BEGIN:STANDARD
TZOFFSETFROM:-0400
TZOFFSETTO:-0500
TZNAME:EST
DTSTART:20201101T060000
END:STANDARD
BEGIN:DAYLIGHT
TZOFFSETFROM:-0500
TZOFFSETTO:-0400
TZNAME:EDT
DTSTART:20210314T070000
END:DAYLIGHT
BEGIN:STANDARD
TZOFFSETFROM:-0400
TZOFFSETTO:-0500
TZNAME:EST
DTSTART:20211107T060000
END:STANDARD
BEGIN:DAYLIGHT
TZOFFSETFROM:-0500
TZOFFSETTO:-0400
TZNAME:EDT
DTSTART:20220313T070000
END:DAYLIGHT
BEGIN:STANDARD
TZOFFSETFROM:-0400
TZOFFSETTO:-0500
TZNAME:EST
DTSTART:20221106T060000
END:STANDARD
END:VTIMEZONE
BEGIN:VEVENT
DTSTART;TZID=America/Detroit:20210809T180000
DTEND;TZID=America/Detroit:20210809T200000
DTSTAMP:20260421T221045
CREATED:20210514T201037Z
LAST-MODIFIED:20210703T131452Z
UID:194445-1628532000-1628539200@mentor.busybeesart.com
SUMMARY:Fun with Stoneware Workshop
DESCRIPTION:Join us for our Stoneware workshop! Stoneware is a gorgeous premium product that is only available during classes so make sure you don’t miss this opportunity. Stoneware can be used in cooking\, baking\, it’s dishwasher friendly\, and can be microwaved. \n\n\n*Piece will be available approximately a week following workshop. Studio remains open during normal business hours. The $10 workshop fee will be deducted from your purchase at class.*
URL:https://mentor.busybeesart.com/event/stoneware/
LOCATION:Busy Bees Pottery & Arts Studio\, 7850 Mentor Ave\, Mentor\, OH\, 44060\, United States
CATEGORIES:Stoneware Painting
ATTACH;FMTTYPE=image/png:https://mentor.busybeesart.com/wp-content/uploads/2021/05/Site-Event-Template-6.png
END:VEVENT
END:VCALENDAR