BEGIN:VCALENDAR
VERSION:2.0
PRODID:-//Busy Bees Pottery &amp; Arts Studio Mentor - ECPv6.15.17.1//NONSGML v1.0//EN
CALSCALE:GREGORIAN
METHOD:PUBLISH
X-WR-CALNAME:Busy Bees Pottery &amp; Arts Studio Mentor
X-ORIGINAL-URL:https://mentor.busybeesart.com
X-WR-CALDESC:Events for Busy Bees Pottery &amp; Arts Studio Mentor
REFRESH-INTERVAL;VALUE=DURATION:PT1H
X-Robots-Tag:noindex
X-PUBLISHED-TTL:PT1H
BEGIN:VTIMEZONE
TZID:America/Detroit
BEGIN:DAYLIGHT
TZOFFSETFROM:-0500
TZOFFSETTO:-0400
TZNAME:EDT
DTSTART:20190310T070000
END:DAYLIGHT
BEGIN:STANDARD
TZOFFSETFROM:-0400
TZOFFSETTO:-0500
TZNAME:EST
DTSTART:20191103T060000
END:STANDARD
BEGIN:DAYLIGHT
TZOFFSETFROM:-0500
TZOFFSETTO:-0400
TZNAME:EDT
DTSTART:20200308T070000
END:DAYLIGHT
BEGIN:STANDARD
TZOFFSETFROM:-0400
TZOFFSETTO:-0500
TZNAME:EST
DTSTART:20201101T060000
END:STANDARD
BEGIN:DAYLIGHT
TZOFFSETFROM:-0500
TZOFFSETTO:-0400
TZNAME:EDT
DTSTART:20210314T070000
END:DAYLIGHT
BEGIN:STANDARD
TZOFFSETFROM:-0400
TZOFFSETTO:-0500
TZNAME:EST
DTSTART:20211107T060000
END:STANDARD
END:VTIMEZONE
BEGIN:VEVENT
DTSTART;TZID=America/Detroit:20201003T160000
DTEND;TZID=America/Detroit:20201003T180000
DTSTAMP:20260422T075727
CREATED:20200910T123918Z
LAST-MODIFIED:20200925T173028Z
UID:190126-1601740800-1601748000@mentor.busybeesart.com
SUMMARY:Witches Board: Ladies Night Out
DESCRIPTION:Wassup witches!? We have created a super fun\, easy to paint Witch Board paying homage to our 3 favorite witches. Come create this super fun board to complete you Halloween decor! Trace patterns and guidance will be provided to make it extra fun. \nGather up the girls and bring your own snacks and beverages for a fun night out! \nWorkshop includes all supplies (board\, stencils\, and use of paints and brushes) and instruction. Board will be available to take home at the conclusion of the workshop. \nSpace is limited for social distancing – register now to secure your spot!
URL:https://mentor.busybeesart.com/event/witches-board-ladies-night-out/
LOCATION:Busy Bees Pottery & Arts Studio\, 7850 Mentor Ave\, Mentor\, OH\, 44060\, United States
CATEGORIES:Adults Only,Board Art
ATTACH;FMTTYPE=image/jpeg:https://mentor.busybeesart.com/wp-content/uploads/2020/09/Witches-Board.jpg
END:VEVENT
END:VCALENDAR