BEGIN:VCALENDAR
VERSION:2.0
PRODID:-//Busy Bees Pottery &amp; Arts Studio Mentor - ECPv6.15.17.1//NONSGML v1.0//EN
CALSCALE:GREGORIAN
METHOD:PUBLISH
X-WR-CALNAME:Busy Bees Pottery &amp; Arts Studio Mentor
X-ORIGINAL-URL:https://mentor.busybeesart.com
X-WR-CALDESC:Events for Busy Bees Pottery &amp; Arts Studio Mentor
REFRESH-INTERVAL;VALUE=DURATION:PT1H
X-Robots-Tag:noindex
X-PUBLISHED-TTL:PT1H
BEGIN:VTIMEZONE
TZID:America/Detroit
BEGIN:DAYLIGHT
TZOFFSETFROM:-0500
TZOFFSETTO:-0400
TZNAME:EDT
DTSTART:20220313T070000
END:DAYLIGHT
BEGIN:STANDARD
TZOFFSETFROM:-0400
TZOFFSETTO:-0500
TZNAME:EST
DTSTART:20221106T060000
END:STANDARD
BEGIN:DAYLIGHT
TZOFFSETFROM:-0500
TZOFFSETTO:-0400
TZNAME:EDT
DTSTART:20230312T070000
END:DAYLIGHT
BEGIN:STANDARD
TZOFFSETFROM:-0400
TZOFFSETTO:-0500
TZNAME:EST
DTSTART:20231105T060000
END:STANDARD
BEGIN:DAYLIGHT
TZOFFSETFROM:-0500
TZOFFSETTO:-0400
TZNAME:EDT
DTSTART:20240310T070000
END:DAYLIGHT
BEGIN:STANDARD
TZOFFSETFROM:-0400
TZOFFSETTO:-0500
TZNAME:EST
DTSTART:20241103T060000
END:STANDARD
END:VTIMEZONE
BEGIN:VEVENT
DTSTART;TZID=America/Detroit:20230315T180000
DTEND;TZID=America/Detroit:20230315T193000
DTSTAMP:20260421T194511
CREATED:20230301T201212Z
LAST-MODIFIED:20230301T201212Z
UID:10002643-1678903200-1678908600@mentor.busybeesart.com
SUMMARY:Ireland's Rainbow: Adult Canvas Painting
DESCRIPTION:The luck of the Irish will be with you if you join us at the studio for a festive evening creating a 12″x12″ Ireland’s Rainbow canvas painting. The Bees will be on hand to guide you through step by step and lead you in shenanigans\, too!  Don your green and register today! \nYour $19 ticket includes one 12″x12″ canvas\, supplies and instruction. \nThis is a BYOB event\, you are welcome to bring a light snack and liquid refreshment of your choice. Please keep in mind the studio does not provide paper products or drinkware.
URL:https://mentor.busybeesart.com/event/irelands-rainbow-adult-canvas-painting/
LOCATION:Busy Bees Pottery & Arts Studio\, 7850 Mentor Ave\, Mentor\, OH\, 44060\, United States
CATEGORIES:Canvas Painting
ATTACH;FMTTYPE=image/png:https://mentor.busybeesart.com/wp-content/uploads/2023/03/3.png
END:VEVENT
END:VCALENDAR