BEGIN:VCALENDAR
VERSION:2.0
PRODID:-//Busy Bees Pottery &amp; Arts Studio Mentor - ECPv6.15.17.1//NONSGML v1.0//EN
CALSCALE:GREGORIAN
METHOD:PUBLISH
X-WR-CALNAME:Busy Bees Pottery &amp; Arts Studio Mentor
X-ORIGINAL-URL:https://mentor.busybeesart.com
X-WR-CALDESC:Events for Busy Bees Pottery &amp; Arts Studio Mentor
REFRESH-INTERVAL;VALUE=DURATION:PT1H
X-Robots-Tag:noindex
X-PUBLISHED-TTL:PT1H
BEGIN:VTIMEZONE
TZID:America/Detroit
BEGIN:DAYLIGHT
TZOFFSETFROM:-0500
TZOFFSETTO:-0400
TZNAME:EDT
DTSTART:20250309T070000
END:DAYLIGHT
BEGIN:STANDARD
TZOFFSETFROM:-0400
TZOFFSETTO:-0500
TZNAME:EST
DTSTART:20251102T060000
END:STANDARD
BEGIN:DAYLIGHT
TZOFFSETFROM:-0500
TZOFFSETTO:-0400
TZNAME:EDT
DTSTART:20260308T070000
END:DAYLIGHT
BEGIN:STANDARD
TZOFFSETFROM:-0400
TZOFFSETTO:-0500
TZNAME:EST
DTSTART:20261101T060000
END:STANDARD
BEGIN:DAYLIGHT
TZOFFSETFROM:-0500
TZOFFSETTO:-0400
TZNAME:EDT
DTSTART:20270314T070000
END:DAYLIGHT
BEGIN:STANDARD
TZOFFSETFROM:-0400
TZOFFSETTO:-0500
TZNAME:EST
DTSTART:20271107T060000
END:STANDARD
END:VTIMEZONE
BEGIN:VEVENT
DTSTART;TZID=America/Detroit:20260420T180000
DTEND;TZID=America/Detroit:20260420T193000
DTSTAMP:20260424T053846
CREATED:20260224T211818Z
LAST-MODIFIED:20260314T175912Z
UID:10002571-1776708000-1776713400@mentor.busybeesart.com
SUMMARY:Glass Blowing (Glaskolben) 4/20
DESCRIPTION:Learn to blow glass with the Bees! Sign up to blow 3 Glass Bulb (Glaskolben)! All supplies and tools are included\, you only need to bring your patience and willingness to learn. Choose your colors to create unique\, beautiful glass art.  This is a class\, meaning you will learn all the steps and complete all the steps. Cost includes glass tubes\, frit (colored glass)\, tools\, and heat. These cute little baubles can be used as ornaments (not only holiday\, but in your windows all year round)\, water globes for small house plants or even as a decorative collection in a vase. \n**Ages 16 & up only\, only the paying student can attend due to space and safety. Minors must be accompanied by a parent or guardian. Please make sure to wear or bring a hair tie if you have long hair\, we will be working with open flame! \nWe will make every effort to accommodate color preferences but due to supply issues\, some colors are not readily available and may have to be substituted
URL:https://mentor.busybeesart.com/event/glass-blowing-glaskolben-4-20/
LOCATION:Busy Bees Pottery & Arts Studio\, 7850 Mentor Ave\, Mentor\, OH\, 44060\, United States
CATEGORIES:Glass Blowing
ATTACH;FMTTYPE=image/png:https://mentor.busybeesart.com/wp-content/uploads/2026/01/Glass-Blowing-2.png
END:VEVENT
BEGIN:VEVENT
DTSTART;TZID=America/Detroit:20260420T180000
DTEND;TZID=America/Detroit:20260420T200000
DTSTAMP:20260424T053846
CREATED:20260408T142835Z
LAST-MODIFIED:20260408T142835Z
UID:10002975-1776708000-1776715200@mentor.busybeesart.com
SUMMARY:Adult Paint & Chill: 90s Edition
DESCRIPTION:The 90s called…it wants YOU back! \nJoin the Bees for a chill evening of pottery painting and 90s trivia\, a perfect night to feed your nostalgia and take it back to the good ol’ days. We’ll be here to help with any project you can think up\, so you can focus on relaxing and taking a break from the chaos of the present times. While this event is non-smoking\, you can bring your own munchies and any beverages you like (just remember to bring plates and cups)! We look forward to creating with you and helping you achieve your perfect 90s dream project! \nYour $10 deposit reserves your seat and will be applied to the project of your choice on the night of the event. Any fired projects will be available for pickup approximately one week after the event.
URL:https://mentor.busybeesart.com/event/adult-paint-chill-90s-edition/
LOCATION:Busy Bees Pottery & Arts Studio\, 7850 Mentor Ave\, Mentor\, OH\, 44060\, United States
CATEGORIES:Adults Only,Pottery Painting
ATTACH;FMTTYPE=image/png:https://mentor.busybeesart.com/wp-content/uploads/2026/04/90s-420-Event.png
END:VEVENT
END:VCALENDAR