BEGIN:VCALENDAR
VERSION:2.0
PRODID:-//Busy Bees Pottery &amp; Arts Studio Mentor - ECPv6.15.17.1//NONSGML v1.0//EN
CALSCALE:GREGORIAN
METHOD:PUBLISH
X-ORIGINAL-URL:https://mentor.busybeesart.com
X-WR-CALDESC:Events for Busy Bees Pottery &amp; Arts Studio Mentor
REFRESH-INTERVAL;VALUE=DURATION:PT1H
X-Robots-Tag:noindex
X-PUBLISHED-TTL:PT1H
BEGIN:VTIMEZONE
TZID:America/Detroit
BEGIN:DAYLIGHT
TZOFFSETFROM:-0500
TZOFFSETTO:-0400
TZNAME:EDT
DTSTART:20220313T070000
END:DAYLIGHT
BEGIN:STANDARD
TZOFFSETFROM:-0400
TZOFFSETTO:-0500
TZNAME:EST
DTSTART:20221106T060000
END:STANDARD
BEGIN:DAYLIGHT
TZOFFSETFROM:-0500
TZOFFSETTO:-0400
TZNAME:EDT
DTSTART:20230312T070000
END:DAYLIGHT
BEGIN:STANDARD
TZOFFSETFROM:-0400
TZOFFSETTO:-0500
TZNAME:EST
DTSTART:20231105T060000
END:STANDARD
BEGIN:DAYLIGHT
TZOFFSETFROM:-0500
TZOFFSETTO:-0400
TZNAME:EDT
DTSTART:20240310T070000
END:DAYLIGHT
BEGIN:STANDARD
TZOFFSETFROM:-0400
TZOFFSETTO:-0500
TZNAME:EST
DTSTART:20241103T060000
END:STANDARD
END:VTIMEZONE
BEGIN:VEVENT
DTSTART;TZID=America/Detroit:20231004T180000
DTEND;TZID=America/Detroit:20231004T200000
DTSTAMP:20260421T212719
CREATED:20230819T225103Z
LAST-MODIFIED:20230920T200932Z
UID:10002681-1696442400-1696449600@mentor.busybeesart.com
SUMMARY:Fall Paint & Sip at Billy's Martini Bar
DESCRIPTION:Gather your friends & family and join the Bees at Billy’s Martini Bar for an Adult’s Only Night Out to decompress from all the craziness of back to school and fall activities! Create this beautiful harvest pumpkin canvas with Busy Bees Art Instructors. We will guide you through the painting step-by-step to create your own masterpiece. Paintings will be completed and ready to take home at the conclusion of the event. To add to the fun\, Billy’s will be offering fantastic specials too\, with $8 build your own pizzas and 30% off wine bottles with a food purchase! \nSeats are limited\, reserve your spot today! *Price includes all supplies and instruction. Paintings will be available to take home at the conclusion of the event.
URL:https://mentor.busybeesart.com/event/fall-paint-sip-at-billys-martini-bar/
LOCATION:Billy’s Martini Bar\, 7338 INDUSTRIAL PARK BOULEVARD\, Mentor\, OH\, 44060\, United States
CATEGORIES:Adults Only,Canvas Painting
ATTACH;FMTTYPE=image/png:https://mentor.busybeesart.com/wp-content/uploads/2023/08/Mentor-Website-graphics-2022-2023-28.png
END:VEVENT
BEGIN:VEVENT
DTSTART;TZID=America/Detroit:20231013T180000
DTEND;TZID=America/Detroit:20231013T200000
DTSTAMP:20260421T212719
CREATED:20230908T205712Z
LAST-MODIFIED:20230912T231544Z
UID:10002307-1697220000-1697227200@mentor.busybeesart.com
SUMMARY:Adult BYOB: Boos\, Booze and Bingo Pottery Paint Night!
DESCRIPTION:Come out to Busy Bees for a night of Halloween fun\, bingo and pottery painting! Prizes will be given out to bingo winners. Make it a girls night or a date night. We will have naughty word stencils and fall/Halloween pottery available\, but you can choose to paint anything you wish! ($25 minimum per person) \nThis is a BYOB event\, feel free to bring snacks and drinks (remember to bring paper products and cups for whatever you bring). This is an “adults only” pottery night. $25 registration fee goes towards the cost of your project the night of. Project cost depends on what you choose that night. If project chosen is more that $25 the balance is to be paid before painting\, if project chosen is under $25 no change will be given.
URL:https://mentor.busybeesart.com/event/adult-byob-boos-booze-and-bingo-pottery-paint-night/
LOCATION:Busy Bees Pottery & Arts Studio\, 7850 Mentor Ave\, Mentor\, OH\, 44060\, United States
CATEGORIES:Adults Only
ATTACH;FMTTYPE=image/png:https://mentor.busybeesart.com/wp-content/uploads/2023/09/Mentor-Website-graphics-2022-2023-26.png
END:VEVENT
BEGIN:VEVENT
DTSTART;TZID=America/Detroit:20231025T180000
DTEND;TZID=America/Detroit:20231025T193000
DTSTAMP:20260421T212719
CREATED:20230823T175757Z
LAST-MODIFIED:20231008T194037Z
UID:10002303-1698256800-1698262200@mentor.busybeesart.com
SUMMARY:NBC Wine Glass Painting at Ballantine
DESCRIPTION:Join the Bees in celebration 30 years of everyone’s favorite nightmare! The Bees have worked up all kinds of themed wine glasses and inspiration for you. Reserve your spot today to join our spooky celebration and have a nightmarishly good time. \nYour $23 ticket includes one wine glass and painting supplies. Ballantine will be offering $4 craft drinks!
URL:https://mentor.busybeesart.com/event/nbc-wine-glasses/
LOCATION:Ballantine\, 4113 Erie St\,\, Willoughby\, OH\, 44094\, United States
CATEGORIES:Adults Only,Wine Glass Painting
ATTACH;FMTTYPE=image/png:https://mentor.busybeesart.com/wp-content/uploads/2023/08/NBC-Ballantine.png
END:VEVENT
END:VCALENDAR