BEGIN:VCALENDAR
VERSION:2.0
PRODID:-//Busy Bees Pottery &amp; Arts Studio Mentor - ECPv6.15.17.1//NONSGML v1.0//EN
CALSCALE:GREGORIAN
METHOD:PUBLISH
X-WR-CALNAME:Busy Bees Pottery &amp; Arts Studio Mentor
X-ORIGINAL-URL:https://mentor.busybeesart.com
X-WR-CALDESC:Events for Busy Bees Pottery &amp; Arts Studio Mentor
REFRESH-INTERVAL;VALUE=DURATION:PT1H
X-Robots-Tag:noindex
X-PUBLISHED-TTL:PT1H
BEGIN:VTIMEZONE
TZID:America/Detroit
BEGIN:DAYLIGHT
TZOFFSETFROM:-0500
TZOFFSETTO:-0400
TZNAME:EDT
DTSTART:20190310T070000
END:DAYLIGHT
BEGIN:STANDARD
TZOFFSETFROM:-0400
TZOFFSETTO:-0500
TZNAME:EST
DTSTART:20191103T060000
END:STANDARD
BEGIN:DAYLIGHT
TZOFFSETFROM:-0500
TZOFFSETTO:-0400
TZNAME:EDT
DTSTART:20200308T070000
END:DAYLIGHT
BEGIN:STANDARD
TZOFFSETFROM:-0400
TZOFFSETTO:-0500
TZNAME:EST
DTSTART:20201101T060000
END:STANDARD
BEGIN:DAYLIGHT
TZOFFSETFROM:-0500
TZOFFSETTO:-0400
TZNAME:EDT
DTSTART:20210314T070000
END:DAYLIGHT
BEGIN:STANDARD
TZOFFSETFROM:-0400
TZOFFSETTO:-0500
TZNAME:EST
DTSTART:20211107T060000
END:STANDARD
BEGIN:DAYLIGHT
TZOFFSETFROM:-0500
TZOFFSETTO:-0400
TZNAME:EDT
DTSTART:20220313T070000
END:DAYLIGHT
BEGIN:STANDARD
TZOFFSETFROM:-0400
TZOFFSETTO:-0500
TZNAME:EST
DTSTART:20221106T060000
END:STANDARD
BEGIN:DAYLIGHT
TZOFFSETFROM:-0500
TZOFFSETTO:-0400
TZNAME:EDT
DTSTART:20230312T070000
END:DAYLIGHT
BEGIN:STANDARD
TZOFFSETFROM:-0400
TZOFFSETTO:-0500
TZNAME:EST
DTSTART:20231105T060000
END:STANDARD
BEGIN:DAYLIGHT
TZOFFSETFROM:-0500
TZOFFSETTO:-0400
TZNAME:EDT
DTSTART:20240310T070000
END:DAYLIGHT
BEGIN:STANDARD
TZOFFSETFROM:-0400
TZOFFSETTO:-0500
TZNAME:EST
DTSTART:20241103T060000
END:STANDARD
BEGIN:DAYLIGHT
TZOFFSETFROM:-0500
TZOFFSETTO:-0400
TZNAME:EDT
DTSTART:20250309T070000
END:DAYLIGHT
BEGIN:STANDARD
TZOFFSETFROM:-0400
TZOFFSETTO:-0500
TZNAME:EST
DTSTART:20251102T060000
END:STANDARD
END:VTIMEZONE
BEGIN:VEVENT
DTSTART;TZID=America/Detroit:20240129T180000
DTEND;TZID=America/Detroit:20240129T200000
DTSTAMP:20260421T205550
CREATED:20231221T224804Z
LAST-MODIFIED:20240127T164849Z
UID:10002012-1706551200-1706558400@mentor.busybeesart.com
SUMMARY:Ladies Night Out: Love Porch Leaner
DESCRIPTION:LOVE is in the air at the studio! Join us in creating your own holiday LOVE board with a darling heart to embellish your artwork. \nThe sign lettering is created using a stencil to do the work for you (no freehand writing)! Stain the board any color you like and paint your heart as special as you are! Sign is 8″x24″\, heart is approximately 6″. Additional  Holiday/Season shapes can be purchased to interchange with the heart to make your sign fun for all seasons. \nThis is a BYOB event\, feel free to bring your favorite snacks and beverages to enjoy during class. Projects will be available to take home at the end of the class. Due to social distancing\, seating is limited please sign up soon to reserve your spot!
URL:https://mentor.busybeesart.com/event/ladies-night-out-love-porch-leaner/
LOCATION:Busy Bees Pottery & Arts Studio\, 7850 Mentor Ave\, Mentor\, OH\, 44060\, United States
CATEGORIES:Adults Only,Board Art
ATTACH;FMTTYPE=image/png:https://mentor.busybeesart.com/wp-content/uploads/2023/12/LoveBoard-1.png
END:VEVENT
BEGIN:VEVENT
DTSTART;TZID=America/Detroit:20231029T170000
DTEND;TZID=America/Detroit:20231029T190000
DTSTAMP:20260421T205550
CREATED:20231004T144001Z
LAST-MODIFIED:20231024T213136Z
UID:10002310-1698598800-1698606000@mentor.busybeesart.com
SUMMARY:Debra's 70th Birthday Extravaganza!
DESCRIPTION:Content is protected.
URL:https://mentor.busybeesart.com/event/70th-birthday-extravaganza/
LOCATION:Busy Bees Pottery & Arts Studio\, 7850 Mentor Ave\, Mentor\, OH\, 44060\, United States
CATEGORIES:Board Art,Pottery Painting
END:VEVENT
BEGIN:VEVENT
DTSTART;TZID=America/Detroit:20231009T180000
DTEND;TZID=America/Detroit:20231009T200000
DTSTAMP:20260421T205550
CREATED:20230921T184027Z
LAST-MODIFIED:20230921T184027Z
UID:10002308-1696874400-1696881600@mentor.busybeesart.com
SUMMARY:Spooky Porch Leaners!
DESCRIPTION:Grab your broomstick\, crawl out your coffin and head over to Busy Bees to make a fun\, spooky porch leaner for your home. Come show your love for one our favorite holidays and create this daring porch leaner board art project. \nThe Bees will be on hand to over see all the creepiness and gore and help you create this festive 10″x72″board. Colors can be customized at the event so that it fits in with your own home decor. Choose your lettering style when ordering your ticket below. \nRegistration is required. This is a BYOB class\, feel free to bring in your favorite beverages and snacks to enjoy during class. Busy Bees does not supply paper products. Board art will be ready to take home at the end of class.
URL:https://mentor.busybeesart.com/event/spooky-porch-leaners/
LOCATION:Busy Bees Pottery & Arts Studio\, 7850 Mentor Ave\, Mentor\, OH\, 44060\, United States
CATEGORIES:Board Art
ATTACH;FMTTYPE=image/png:https://mentor.busybeesart.com/wp-content/uploads/2023/09/Porch-leaner.png
END:VEVENT
BEGIN:VEVENT
DTSTART;TZID=America/Detroit:20221012T180000
DTEND;TZID=America/Detroit:20221012T200000
DTSTAMP:20260421T205550
CREATED:20220910T214821Z
LAST-MODIFIED:20220910T214857Z
UID:10002602-1665597600-1665604800@mentor.busybeesart.com
SUMMARY:Three Witches: Adult Board Painting
DESCRIPTION:Grab your brooms and your favorite witches and join us for a spooktacularly fun evening painting everyone’s favorite witchy sisters! \nThe Bees will be in house to guide you through this 3 section board painting. Your $43 ticket includes your 17″x17″ board\, supplies and instruction. \nThis is a BYOP event-Bring Your Own Potion! You are welcome to bring your favorite brew and a light snack\, too! Busy Bees does not provide paper products or drinkware so be sure to bring your own. \n*please drink responsibly* \n*Registration Required*
URL:https://mentor.busybeesart.com/event/three-witches-adult-board-painting/
LOCATION:Busy Bees Pottery & Arts Studio\, 7850 Mentor Ave\, Mentor\, OH\, 44060\, United States
CATEGORIES:Adults Only,Board Art
ATTACH;FMTTYPE=image/png:https://mentor.busybeesart.com/wp-content/uploads/2022/09/10_12_22witches-board-painting.png
END:VEVENT
BEGIN:VEVENT
DTSTART;TZID=America/Detroit:20220315T180000
DTEND;TZID=America/Detroit:20220315T200000
DTSTAMP:20260421T205550
CREATED:20220226T210633Z
LAST-MODIFIED:20220313T195745Z
UID:10002199-1647367200-1647374400@mentor.busybeesart.com
SUMMARY:Irish Love Board Art Workshop
DESCRIPTION:Everyone is Irish on St.Patty’s Day! Come show your love of the Emerald Isle and create this shamrock love board art project. \nThe Bees will be on hand to over see all the shenanigans and help you create this festive 10″x18″board. Colors can be customized at the event so that it fits in with your own home decor. \nRegistration is required. This is a BYOB class\, feel free to bring in your favorite beverages and snacks to enjoy during class. Busy Bees does not supply paper products. Board art will be ready to take home at the end of class.
URL:https://mentor.busybeesart.com/event/irish-love-board-art-workshop/
LOCATION:Busy Bees Pottery & Arts Studio\, 7850 Mentor Ave\, Mentor\, OH\, 44060\, United States
CATEGORIES:Board Art
ATTACH;FMTTYPE=image/png:https://mentor.busybeesart.com/wp-content/uploads/2022/02/3_14_22-6-8p.png
END:VEVENT
BEGIN:VEVENT
DTSTART;TZID=America/Detroit:20220303T180000
DTEND;TZID=America/Detroit:20220303T193000
DTSTAMP:20260421T205550
CREATED:20220107T003533Z
LAST-MODIFIED:20220127T210720Z
UID:10002511-1646330400-1646335800@mentor.busybeesart.com
SUMMARY:Monogram It: Board Art Painting Class
DESCRIPTION:Create this beautiful monogram art piece for your home at Busy Bees! This project is painted on an 11×14 wood plaque using stencils\, stroke brush painting\, and add a burlap bow to your project if you’d like too! The studio will provide all materials and instruction. \nRegistration is required. This is a BYOB class\, feel free to bring in your favorite beverages and snacks to enjoy during class. Board art will be ready to take home at the end of class.
URL:https://mentor.busybeesart.com/event/monogram-it-board-art-painting-class/
LOCATION:Busy Bees Pottery & Arts Studio\, 7850 Mentor Ave\, Mentor\, OH\, 44060\, United States
CATEGORIES:Board Art
ATTACH;FMTTYPE=image/png:https://mentor.busybeesart.com/wp-content/uploads/2022/01/Board-Monogram.png
END:VEVENT
BEGIN:VEVENT
DTSTART;TZID=America/Detroit:20220208T180000
DTEND;TZID=America/Detroit:20220208T200000
DTSTAMP:20260421T205550
CREATED:20220115T204410Z
LAST-MODIFIED:20220117T170843Z
UID:10002522-1644343200-1644350400@mentor.busybeesart.com
SUMMARY:All For Love Board Art Workshop
DESCRIPTION:Here at Busy Bees\, we LOVE\, love and think art is the perfect way to express our love for everyone! Join the Bees for an evening of creative fun for the love of love! \nThe Bees will guide you through creating this 18″x24″ board art project\, but you are more than welcome to change up the colors if you wish. \nYour $49 ticket includes your board\, stencil\, paints and all supplies needed to complete your project. \nProjects will be available to take home at the conclusion of the workshop.
URL:https://mentor.busybeesart.com/event/all-for-love-board-art-workshop/
LOCATION:Busy Bees Pottery & Arts Studio\, 7850 Mentor Ave\, Mentor\, OH\, 44060\, United States
CATEGORIES:Board Art
ATTACH;FMTTYPE=image/png:https://mentor.busybeesart.com/wp-content/uploads/2022/01/all-for-love-board-feb8.png
END:VEVENT
BEGIN:VEVENT
DTSTART;TZID=America/Detroit:20220203T183000
DTEND;TZID=America/Detroit:20220203T200000
DTSTAMP:20260421T205550
CREATED:20220108T210756Z
LAST-MODIFIED:20220108T211018Z
UID:10002517-1643913000-1643918400@mentor.busybeesart.com
SUMMARY:LOVE Sign: Painting Class
DESCRIPTION:LOVE is in the air at the studio! Join us in creating your own holiday LOVE board with a darling heart to embellish your artwork. \nThe sign lettering is created using a stencil to do the work for you (no freehand writing)! Stain the board any color you like and paint your heart as special as you are! Sign is 8″x24″\, heart is approximately 6″. Additional  Holiday/Season shapes can be purchased to interchange with the heart to make your sign fun for all seasons. \nThis is a BYOB event\, feel free to bring your favorite snacks and beverages to enjoy during class. Projects will be available to take home at the end of the class. Due to social distancing\, seating is limited please sign up soon to reserve your spot!
URL:https://mentor.busybeesart.com/event/love-sign/
LOCATION:Busy Bees Pottery & Arts Studio\, 7850 Mentor Ave\, Mentor\, OH\, 44060\, United States
CATEGORIES:Board Art
ATTACH;FMTTYPE=image/png:https://mentor.busybeesart.com/wp-content/uploads/2022/01/LoveBoard.png
END:VEVENT
BEGIN:VEVENT
DTSTART;TZID=America/Detroit:20211216T180000
DTEND;TZID=America/Detroit:20211216T193000
DTSTAMP:20260421T205550
CREATED:20211022T200206Z
LAST-MODIFIED:20211022T200223Z
UID:10002495-1639677600-1639683000@mentor.busybeesart.com
SUMMARY:Winter Gnome: Board Art Painting Class
DESCRIPTION:OMGnome! We have another adorable gnome ready to decorate your home for the holidays. Come paint this Winter Gnome at the studio with the instruction and guidance of the Busy Bees art staff. The painting will be created on an 11″x14″ wood slab…extra rustic for the perfect fall décor. \nRegistration is required. This is a BYOB class\, feel free to bring in your favorite beverages and snacks to enjoy during class. Board art will be ready to take home at the end of class.
URL:https://mentor.busybeesart.com/event/winter-gnome-board-art-painting-class/
LOCATION:Busy Bees Pottery & Arts Studio\, 7850 Mentor Ave\, Mentor\, OH\, 44060\, United States
CATEGORIES:Board Art
ATTACH;FMTTYPE=image/png:https://mentor.busybeesart.com/wp-content/uploads/2021/10/winter-gnome.png
END:VEVENT
BEGIN:VEVENT
DTSTART;TZID=America/Detroit:20211104T180000
DTEND;TZID=America/Detroit:20211104T193000
DTSTAMP:20260421T205550
CREATED:20210904T192607Z
LAST-MODIFIED:20211020T205055Z
UID:10002469-1636048800-1636054200@mentor.busybeesart.com
SUMMARY:Fall Gnome: Board Art Painting Class
DESCRIPTION:OMGnome! Come paint this Fall Gnome at the studio with the instruction and guidance of the Busy Bees art staff. The painting will be created on an 11″x14″ wood slab…extra rustic for the perfect fall décor. \nRegistration is required. This is a BYOB class\, feel free to bring in your favorite beverages and snacks to enjoy during class. Board art will be ready to take home at the end of class.
URL:https://mentor.busybeesart.com/event/fall-gnome/
LOCATION:Busy Bees Pottery & Arts Studio\, 7850 Mentor Ave\, Mentor\, OH\, 44060\, United States
CATEGORIES:Board Art
ATTACH;FMTTYPE=image/png:https://mentor.busybeesart.com/wp-content/uploads/2021/09/October-2021-Site-1.png
END:VEVENT
BEGIN:VEVENT
DTSTART;TZID=America/Detroit:20211028T180000
DTEND;TZID=America/Detroit:20211028T193000
DTSTAMP:20260421T205550
CREATED:20210904T194615Z
LAST-MODIFIED:20210904T194642Z
UID:10002473-1635444000-1635449400@mentor.busybeesart.com
SUMMARY:Fall Gourds: Board Art Painting Class
DESCRIPTION:Sign up and paint this gorgeous Fall Gourds board at the studio with the instruction and guidance of the Busy Bees art staff. The painting will be created on an 11″x14″ wood slab…extra rustic for the perfect fall décor. \nRegistration is required. This is a BYOB class\, feel free to bring in your favorite beverages and snacks to enjoy during class. Board art will be ready to take home at the end of class.
URL:https://mentor.busybeesart.com/event/fall-gourds/
LOCATION:Busy Bees Pottery & Arts Studio\, 7850 Mentor Ave\, Mentor\, OH\, 44060\, United States
CATEGORIES:Board Art
ATTACH;FMTTYPE=image/png:https://mentor.busybeesart.com/wp-content/uploads/2021/09/1.png
END:VEVENT
BEGIN:VEVENT
DTSTART;TZID=America/Detroit:20211018T170000
DTEND;TZID=America/Detroit:20211018T193000
DTSTAMP:20260421T205550
CREATED:20200910T120136Z
LAST-MODIFIED:20211018T221911Z
UID:10002267-1634576400-1634585400@mentor.busybeesart.com
SUMMARY:Holiday Board Art Party!
DESCRIPTION:Come create this fantastic 2-sided board for your holiday decorations. One side is painted like a scarecrow\, the other side is painted like a snowman. 2 board designs for the price of one! \nBring in your own snacks and beverages for a fun night out! \nWorkshop includes all supplies (board\, stencils\, and use of paints and brushes) and instruction. Board will be available to take home at the conclusion of the workshop. Board size is approximately 24″x14″ \n* To keep you safe we’re social distancing so there is limited seating. Book now and secure your spot!*
URL:https://mentor.busybeesart.com/event/holiday-boards/
LOCATION:Busy Bees Pottery & Arts Studio\, 7850 Mentor Ave\, Mentor\, OH\, 44060\, United States
CATEGORIES:Adults Only,Board Art
ATTACH;FMTTYPE=image/jpeg:https://mentor.busybeesart.com/wp-content/uploads/2020/09/2-Sided-Board.jpg
END:VEVENT
BEGIN:VEVENT
DTSTART;TZID=America/Detroit:20211014T180000
DTEND;TZID=America/Detroit:20211014T200000
DTSTAMP:20260421T205550
CREATED:20210904T184331Z
LAST-MODIFIED:20211001T151825Z
UID:10002466-1634234400-1634241600@mentor.busybeesart.com
SUMMARY:Ladies Night Out: Candi & Corn Board Art
DESCRIPTION:Looking to create the perfect new piece of décor for your mantle\, porch or fireplace?! Join the Bees today from 6pm – 8pm to create the perfect 10×10 board addition to your home! \nThis is a BYOB event\, feel free to bring your favorite beverages and snacks to enjoy during class. \n*Your project will be ready to go home with you the same day
URL:https://mentor.busybeesart.com/event/ladies-night-out-candi-corn-board-art/
LOCATION:Busy Bees Pottery & Arts Studio\, 7850 Mentor Ave\, Mentor\, OH\, 44060\, United States
CATEGORIES:Board Art
ATTACH;FMTTYPE=image/png:https://mentor.busybeesart.com/wp-content/uploads/2021/09/October-2021-Site.png
END:VEVENT
BEGIN:VEVENT
DTSTART;TZID=America/Detroit:20211009T110000
DTEND;TZID=America/Detroit:20211009T170000
DTSTAMP:20260421T205550
CREATED:20210908T162330Z
LAST-MODIFIED:20210908T162345Z
UID:10002147-1633777200-1633798800@mentor.busybeesart.com
SUMMARY:Stay "Paw"sitive Board Art Class
DESCRIPTION:Head up to Busy Bees to create this super cute “Stay Paws-itive” wooden sign. Choose from creating either a dog or cat design and the Bees will get all the materials ready for your arrival. \nSigns will be ready to take home with you once created. Sign up now for a pawsitively great time!
URL:https://mentor.busybeesart.com/event/stay-pawsitive/
LOCATION:Busy Bees Pottery & Arts Studio\, 7850 Mentor Ave\, Mentor\, OH\, 44060\, United States
CATEGORIES:Board Art,Studio Event
ATTACH;FMTTYPE=image/png:https://mentor.busybeesart.com/wp-content/uploads/2021/09/Pawsitive.png
END:VEVENT
BEGIN:VEVENT
DTSTART;TZID=America/Detroit:20210923T180000
DTEND;TZID=America/Detroit:20210923T200000
DTSTAMP:20260421T205550
CREATED:20210903T153850Z
LAST-MODIFIED:20210923T140334Z
UID:10002139-1632420000-1632427200@mentor.busybeesart.com
SUMMARY:Ladies Night Out: Pumpkin Welcome Board
DESCRIPTION:Grab your gal pals and join us for as we Fall into Fun with our Ladies’ Night  Pumpkin Welcome Board workshop.  We will use a combination of techniques to create this rustic inspired board painting at this instructor lead class. Your $55 class fee includes your board and all needed supplies. You are welcome to bring a beverage of your choice and snacks\, but please remember to bring your own paper products as Busy Bees does not supply them.  Your project will be ready for take home at the conclusion of the event. We can’t wait to get creative with you all!
URL:https://mentor.busybeesart.com/event/ladies-night-out-pumpkin-welcome-board/
LOCATION:Busy Bees Pottery & Arts Studio\, 7850 Mentor Ave\, Mentor\, OH\, 44060\, United States
CATEGORIES:Board Art
ATTACH;FMTTYPE=image/jpeg:https://mentor.busybeesart.com/wp-content/uploads/2021/09/welcome-board.jpg
ORGANIZER;CN="Busy Bees Pottery & Arts Studio":MAILTO:mentor@busybeesart.com
END:VEVENT
BEGIN:VEVENT
DTSTART;TZID=America/Detroit:20210831T180000
DTEND;TZID=America/Detroit:20210831T193000
DTSTAMP:20260421T205550
CREATED:20210816T122414Z
LAST-MODIFIED:20210816T122426Z
UID:10002137-1630432800-1630438200@mentor.busybeesart.com
SUMMARY:Board Art at Ballantine's
DESCRIPTION:The Bees are leaving the hive and heading to Ballantine’s in Downtown Willoguhby for art + wine (and a little mischief)! Sign up and paint this beautiful fall inspired picture with the Bees on an 11″x14″ wood slab. Ballantine will be offering their wonderful selection of wine bottles for 1/2 during the event (perfect for splitting with a friend!). Seats are limited\, reserve your spot today! \n*Price includes all supplies and instruction. Boards will be available to take home at the conclusion of the event.
URL:https://mentor.busybeesart.com/event/board-art-at-ballantines/
LOCATION:Ballantine\, 4113 Erie St\,\, Willoughby\, OH\, 44094\, United States
CATEGORIES:Adults Only,Board Art
ATTACH;FMTTYPE=image/jpeg:https://mentor.busybeesart.com/wp-content/uploads/2021/08/Ballantine-1.jpg
END:VEVENT
BEGIN:VEVENT
DTSTART;TZID=America/Detroit:20210727T180000
DTEND;TZID=America/Detroit:20210727T193000
DTSTAMP:20260421T205550
CREATED:20210707T125754Z
LAST-MODIFIED:20210726T175345Z
UID:10002460-1627408800-1627414200@mentor.busybeesart.com
SUMMARY:Board Art at Billy's
DESCRIPTION:The Bees are leaving the hive and heading to Billy’s Martini Bar for art + martinis! Sign up and paint Martini Madness on an 11″x14″ wood slab. Billy’s will be offering their infamous martinis for just $7. Seats are limited\, reserve your spot today! \n*Price includes all supplies and instruction. Boards will be available to take home at the conclusion of the event.
URL:https://mentor.busybeesart.com/event/board-art-at-billys/
LOCATION:Billy’s Martini Bar\, 7338 INDUSTRIAL PARK BOULEVARD\, Mentor\, OH\, 44060\, United States
CATEGORIES:Adults Only,Board Art
ATTACH;FMTTYPE=image/jpeg:https://mentor.busybeesart.com/wp-content/uploads/2021/07/Billys-Martini.jpg
END:VEVENT
BEGIN:VEVENT
DTSTART;TZID=America/Detroit:20210506T160000
DTEND;TZID=America/Detroit:20210506T180000
DTSTAMP:20260421T205550
CREATED:20200915T160511Z
LAST-MODIFIED:20210422T124948Z
UID:10002104-1620316800-1620324000@mentor.busybeesart.com
SUMMARY:Front Porch Leaner with Garden Box
DESCRIPTION:This is a MUST attend workshop! Join us at the studio to create your very own Porch Leaner with Garden Box (great way to display gorgeous fall mums!). \nThe lettering is created using a stencil to do the work for you (no freehand writing)! Stain the board any color you like! \n*Projects are available for take home immediately after the workshop. Flowers not included.
URL:https://mentor.busybeesart.com/event/porch-leaner-2021-05-06/
LOCATION:Busy Bees Pottery & Arts Studio\, 7850 Mentor Ave\, Mentor\, OH\, 44060\, United States
CATEGORIES:Board Art
ATTACH;FMTTYPE=image/jpeg:https://mentor.busybeesart.com/wp-content/uploads/2020/09/Porch-Leaner.jpg
END:VEVENT
BEGIN:VEVENT
DTSTART;TZID=America/Detroit:20201214T170000
DTEND;TZID=America/Detroit:20201214T190000
DTSTAMP:20260421T205550
CREATED:20201124T233448Z
LAST-MODIFIED:20201124T233448Z
UID:10002320-1607965200-1607972400@mentor.busybeesart.com
SUMMARY:Design a Winter Board
DESCRIPTION:Head up to the studio for this fun holiday class. Paint a Santa\, snowman\, or even the Grinch during this class. The Bees will be on hand to help you paint and create the perfect holiday board for your home. \nBoards are approximately 10″x14″ and are available to take home at the conclusion of the class.
URL:https://mentor.busybeesart.com/event/design-a-winter-board/
LOCATION:Busy Bees Pottery & Arts Studio\, 7850 Mentor Ave\, Mentor\, OH\, 44060\, United States
CATEGORIES:Board Art
ATTACH;FMTTYPE=image/png:https://mentor.busybeesart.com/wp-content/uploads/2020/11/Site-Event-Template-3.png
END:VEVENT
BEGIN:VEVENT
DTSTART;TZID=America/Detroit:20201018T140000
DTEND;TZID=America/Detroit:20201018T160000
DTSTAMP:20260421T205550
CREATED:20200915T160511Z
LAST-MODIFIED:20210407T142237Z
UID:10002047-1603029600-1603036800@mentor.busybeesart.com
SUMMARY:Front Porch Leaner with Garden Box
DESCRIPTION:This is a MUST attend workshop! Join us at the studio to create your very own Porch Leaner with Garden Box (great way to display gorgeous fall mums!). \nThe lettering is created using a stencil to do the work for you (no freehand writing)! Stain the board any color you like! \n*Projects are available for take home immediately after the workshop. Flowers not included.
URL:https://mentor.busybeesart.com/event/porch-leaner/2020-10-18/
LOCATION:Busy Bees Pottery & Arts Studio\, 7850 Mentor Ave\, Mentor\, OH\, 44060\, United States
CATEGORIES:Board Art
ATTACH;FMTTYPE=image/jpeg:https://mentor.busybeesart.com/wp-content/uploads/2020/09/Porch-Leaner.jpg
END:VEVENT
BEGIN:VEVENT
DTSTART;TZID=America/Detroit:20201017T100000
DTEND;TZID=America/Detroit:20201017T110000
DTSTAMP:20260421T205550
CREATED:20201004T171721Z
LAST-MODIFIED:20201004T171721Z
UID:10002274-1602928800-1602932400@mentor.busybeesart.com
SUMMARY:Wanda the Witch Board
DESCRIPTION:Start your Saturday morning with the Bees and a fun art class! Head up to the studio to paint this super fun witch board! She’s a great addition to your Halloween decor whether in your home or on your porch or patio. \nThe Busy Bees staff will guide you during this class and help you design your witch face and choose paint colors. This class is for all ages\, don’t miss it!
URL:https://mentor.busybeesart.com/event/wanda-the-witch-board/
LOCATION:Busy Bees Pottery & Arts Studio\, 7850 Mentor Ave\, Mentor\, OH\, 44060\, United States
CATEGORIES:Board Art
ATTACH;FMTTYPE=image/png:https://mentor.busybeesart.com/wp-content/uploads/2020/10/Site-Event-Template-1.png
END:VEVENT
BEGIN:VEVENT
DTSTART;TZID=America/Detroit:20201003T160000
DTEND;TZID=America/Detroit:20201003T180000
DTSTAMP:20260421T205550
CREATED:20200910T123918Z
LAST-MODIFIED:20200925T173028Z
UID:10002271-1601740800-1601748000@mentor.busybeesart.com
SUMMARY:Witches Board: Ladies Night Out
DESCRIPTION:Wassup witches!? We have created a super fun\, easy to paint Witch Board paying homage to our 3 favorite witches. Come create this super fun board to complete you Halloween decor! Trace patterns and guidance will be provided to make it extra fun. \nGather up the girls and bring your own snacks and beverages for a fun night out! \nWorkshop includes all supplies (board\, stencils\, and use of paints and brushes) and instruction. Board will be available to take home at the conclusion of the workshop. \nSpace is limited for social distancing – register now to secure your spot!
URL:https://mentor.busybeesart.com/event/witches-board-ladies-night-out/
LOCATION:Busy Bees Pottery & Arts Studio\, 7850 Mentor Ave\, Mentor\, OH\, 44060\, United States
CATEGORIES:Adults Only,Board Art
ATTACH;FMTTYPE=image/jpeg:https://mentor.busybeesart.com/wp-content/uploads/2020/09/Witches-Board.jpg
END:VEVENT
END:VCALENDAR