BEGIN:VCALENDAR
VERSION:2.0
PRODID:-//Busy Bees Pottery &amp; Arts Studio Mentor - ECPv6.15.17.1//NONSGML v1.0//EN
CALSCALE:GREGORIAN
METHOD:PUBLISH
X-WR-CALNAME:Busy Bees Pottery &amp; Arts Studio Mentor
X-ORIGINAL-URL:https://mentor.busybeesart.com
X-WR-CALDESC:Events for Busy Bees Pottery &amp; Arts Studio Mentor
REFRESH-INTERVAL;VALUE=DURATION:PT1H
X-Robots-Tag:noindex
X-PUBLISHED-TTL:PT1H
BEGIN:VTIMEZONE
TZID:America/Detroit
BEGIN:DAYLIGHT
TZOFFSETFROM:-0500
TZOFFSETTO:-0400
TZNAME:EDT
DTSTART:20220313T070000
END:DAYLIGHT
BEGIN:STANDARD
TZOFFSETFROM:-0400
TZOFFSETTO:-0500
TZNAME:EST
DTSTART:20221106T060000
END:STANDARD
BEGIN:DAYLIGHT
TZOFFSETFROM:-0500
TZOFFSETTO:-0400
TZNAME:EDT
DTSTART:20230312T070000
END:DAYLIGHT
BEGIN:STANDARD
TZOFFSETFROM:-0400
TZOFFSETTO:-0500
TZNAME:EST
DTSTART:20231105T060000
END:STANDARD
BEGIN:DAYLIGHT
TZOFFSETFROM:-0500
TZOFFSETTO:-0400
TZNAME:EDT
DTSTART:20240310T070000
END:DAYLIGHT
BEGIN:STANDARD
TZOFFSETFROM:-0400
TZOFFSETTO:-0500
TZNAME:EST
DTSTART:20241103T060000
END:STANDARD
END:VTIMEZONE
BEGIN:VEVENT
DTSTART;TZID=America/Detroit:20231001T150000
DTEND;TZID=America/Detroit:20231001T163000
DTSTAMP:20260420T232039
CREATED:20230905T173100Z
LAST-MODIFIED:20230905T173121Z
UID:10002304-1696172400-1696177800@mentor.busybeesart.com
SUMMARY:Katie's Canvas Painting Party
DESCRIPTION:Content is protected.
URL:https://mentor.busybeesart.com/event/katies-party/
LOCATION:Busy Bees Pottery & Arts Studio\, 7850 Mentor Ave\, Mentor\, OH\, 44060\, United States
CATEGORIES:Canvas Painting
END:VEVENT
BEGIN:VEVENT
DTSTART;TZID=America/Detroit:20231004T180000
DTEND;TZID=America/Detroit:20231004T200000
DTSTAMP:20260420T232039
CREATED:20230819T225103Z
LAST-MODIFIED:20230920T200932Z
UID:10002681-1696442400-1696449600@mentor.busybeesart.com
SUMMARY:Fall Paint & Sip at Billy's Martini Bar
DESCRIPTION:Gather your friends & family and join the Bees at Billy’s Martini Bar for an Adult’s Only Night Out to decompress from all the craziness of back to school and fall activities! Create this beautiful harvest pumpkin canvas with Busy Bees Art Instructors. We will guide you through the painting step-by-step to create your own masterpiece. Paintings will be completed and ready to take home at the conclusion of the event. To add to the fun\, Billy’s will be offering fantastic specials too\, with $8 build your own pizzas and 30% off wine bottles with a food purchase! \nSeats are limited\, reserve your spot today! *Price includes all supplies and instruction. Paintings will be available to take home at the conclusion of the event.
URL:https://mentor.busybeesart.com/event/fall-paint-sip-at-billys-martini-bar/
LOCATION:Billy’s Martini Bar\, 7338 INDUSTRIAL PARK BOULEVARD\, Mentor\, OH\, 44060\, United States
CATEGORIES:Adults Only,Canvas Painting
ATTACH;FMTTYPE=image/png:https://mentor.busybeesart.com/wp-content/uploads/2023/08/Mentor-Website-graphics-2022-2023-28.png
END:VEVENT
BEGIN:VEVENT
DTSTART;TZID=America/Detroit:20231011T180000
DTEND;TZID=America/Detroit:20231011T200000
DTSTAMP:20260420T232039
CREATED:20230819T191926Z
LAST-MODIFIED:20230915T165342Z
UID:10002679-1697047200-1697054400@mentor.busybeesart.com
SUMMARY:Adult Canvas Painting: Fall Bounty
DESCRIPTION:Celebrate the beauty of the changing seasons as we create this gorgeous fall floral canvas painting. A Busy Bees Artist will be on hand to guide you through this Fall Bounty design. Your $29 ticket includes a 16×20 canvas\, materials and instruction. Finished projects will be available to take home at the conclusion of the event. \nThis is a BYOB friendly event\, you are welcome to bring a beverage and light snack if you choose. Please drink responsibly. Busy Bees does not provide paper products or drinkware.
URL:https://mentor.busybeesart.com/event/adult-canvas-painting-fall-bounty/
LOCATION:Busy Bees Pottery & Arts Studio\, 7850 Mentor Ave\, Mentor\, OH\, 44060\, United States
CATEGORIES:Canvas Painting
ATTACH;FMTTYPE=image/png:https://mentor.busybeesart.com/wp-content/uploads/2023/08/Mentor-Website-graphics-2022-2023-16.png
END:VEVENT
BEGIN:VEVENT
DTSTART;TZID=America/Detroit:20231025T180000
DTEND;TZID=America/Detroit:20231025T200000
DTSTAMP:20260420T232039
CREATED:20230822T232952Z
LAST-MODIFIED:20230822T232952Z
UID:10002302-1698256800-1698264000@mentor.busybeesart.com
SUMMARY:Adult Canvas Painting: Hill Top Haunt
DESCRIPTION:Head on in to the studio and create this HAUNTINGLY fun Halloween inspired canvas painting. A Busy Bees Artist will be on hand to guide you through this Hill Top Haunt design. Your $29 ticket includes a 16×20 canvas\, materials and instruction. Finished projects will be available to take home at the conclusion of the event. \nThis is a BYOB friendly event\, you are welcome to bring a beverage and light snack if you choose. Please drink responsibly. Busy Bees does not provide paper products or drinkware.
URL:https://mentor.busybeesart.com/event/adult-canvas-painting-hill-top-haunt/
LOCATION:Busy Bees Pottery & Arts Studio\, 7850 Mentor Ave\, Mentor\, OH\, 44060\, United States
CATEGORIES:Canvas Painting
ATTACH;FMTTYPE=image/png:https://mentor.busybeesart.com/wp-content/uploads/2023/08/104.png
END:VEVENT
END:VCALENDAR