BEGIN:VCALENDAR
VERSION:2.0
PRODID:-//Busy Bees Pottery &amp; Arts Studio Mentor - ECPv6.15.17.1//NONSGML v1.0//EN
CALSCALE:GREGORIAN
METHOD:PUBLISH
X-WR-CALNAME:Busy Bees Pottery &amp; Arts Studio Mentor
X-ORIGINAL-URL:https://mentor.busybeesart.com
X-WR-CALDESC:Events for Busy Bees Pottery &amp; Arts Studio Mentor
REFRESH-INTERVAL;VALUE=DURATION:PT1H
X-Robots-Tag:noindex
X-PUBLISHED-TTL:PT1H
BEGIN:VTIMEZONE
TZID:America/Detroit
BEGIN:DAYLIGHT
TZOFFSETFROM:-0500
TZOFFSETTO:-0400
TZNAME:EDT
DTSTART:20230312T070000
END:DAYLIGHT
BEGIN:STANDARD
TZOFFSETFROM:-0400
TZOFFSETTO:-0500
TZNAME:EST
DTSTART:20231105T060000
END:STANDARD
BEGIN:DAYLIGHT
TZOFFSETFROM:-0500
TZOFFSETTO:-0400
TZNAME:EDT
DTSTART:20240310T070000
END:DAYLIGHT
BEGIN:STANDARD
TZOFFSETFROM:-0400
TZOFFSETTO:-0500
TZNAME:EST
DTSTART:20241103T060000
END:STANDARD
BEGIN:DAYLIGHT
TZOFFSETFROM:-0500
TZOFFSETTO:-0400
TZNAME:EDT
DTSTART:20250309T070000
END:DAYLIGHT
BEGIN:STANDARD
TZOFFSETFROM:-0400
TZOFFSETTO:-0500
TZNAME:EST
DTSTART:20251102T060000
END:STANDARD
END:VTIMEZONE
BEGIN:VEVENT
DTSTART;TZID=America/Detroit:20240109T173000
DTEND;TZID=America/Detroit:20240109T193000
DTSTAMP:20260419T204728
CREATED:20230811T134937Z
LAST-MODIFIED:20230811T135034Z
UID:10002673-1704821400-1704828600@mentor.busybeesart.com
SUMMARY:Adult Paint Night at Kirtland Public Library
DESCRIPTION:Content is protected.
URL:https://mentor.busybeesart.com/event/kirtland-paint-night/
LOCATION:Kirtland Public Library\, 9267 Chillicothe Rd\, Kirtland\, OH\, 44094\, United States
CATEGORIES:Adults Only,Canvas Painting
END:VEVENT
BEGIN:VEVENT
DTSTART;TZID=America/Detroit:20240110T180000
DTEND;TZID=America/Detroit:20240110T200000
DTSTAMP:20260419T204728
CREATED:20231221T221623Z
LAST-MODIFIED:20240110T154147Z
UID:10001994-1704909600-1704916800@mentor.busybeesart.com
SUMMARY:Adult Night Out: Fresh Powder
DESCRIPTION:Join the Bees for a relaxing evening painting this gorgeous “Fresh Powder” canvas. A Busy Bee artist will be on hand to guide you through the step by step process of creating this beautiful wintery design. Grab a a friend and register now! \nYour $29 ticket include a 16″x20″ canvas\, supplies and instructions. Projects will be available to take home at the conclusion of the workshop. \nThis is an adult BYOB event. Please feel free to bring a beverage or light snack of your choosing. \nPlease drink responsibly. \nBusy Bees does not provide any paper products or drinkware.
URL:https://mentor.busybeesart.com/event/adult-night-out-fresh-powder/
LOCATION:Busy Bees Pottery & Arts Studio\, 7850 Mentor Ave\, Mentor\, OH\, 44060\, United States
CATEGORIES:Adults Only,Canvas Painting
ATTACH;FMTTYPE=image/png:https://mentor.busybeesart.com/wp-content/uploads/2023/12/Mentor-Website-graphics-2022-2023-1-1.png
END:VEVENT
BEGIN:VEVENT
DTSTART;TZID=America/Detroit:20240117T180000
DTEND;TZID=America/Detroit:20240117T200000
DTSTAMP:20260419T204728
CREATED:20231228T170547Z
LAST-MODIFIED:20231228T170547Z
UID:10002335-1705514400-1705521600@mentor.busybeesart.com
SUMMARY:Canvas and Cocktails at Billy's: Happy Snowman
DESCRIPTION:Gather your friends & family and join the Bees at Billy’s Martini Bar for an Adult’s Only Night Out to decompress from all the craziness of holidays! Create this adorable snowman canvas with Busy Bees Art Instructors. We will guide you through the painting step-by-step to create your own masterpiece. Paintings will be completed and ready to take home at the conclusion of the event. To add to the fun\, Billy’s will be offering fantastic specials too\, with $9 build your own pizzas and 30% off wine bottles with a food purchase. Come early to get your drink and food orders in\, painting starts promptly at 6pm!
URL:https://mentor.busybeesart.com/event/canvas-and-cocktails-at-billys-happy-snowman/
LOCATION:Billy’s Martini Bar\, 7338 INDUSTRIAL PARK BOULEVARD\, Mentor\, OH\, 44060\, United States
CATEGORIES:Adults Only,Canvas Painting
ATTACH;FMTTYPE=image/png:https://mentor.busybeesart.com/wp-content/uploads/2023/12/Billys-1_17_24.png
END:VEVENT
BEGIN:VEVENT
DTSTART;TZID=America/Detroit:20240119T180000
DTEND;TZID=America/Detroit:20240119T193000
DTSTAMP:20260419T204728
CREATED:20231221T223118Z
LAST-MODIFIED:20231221T223118Z
UID:10002001-1705687200-1705692600@mentor.busybeesart.com
SUMMARY:Kids Night Out: Yeti
DESCRIPTION:Sign up your young artist to paint this super cute “Yeti” painting. Busy Bees will lead your child through a step-by-step canvas class for a fun afternoon! \nTicket includes all materials\, supplies\, and instruction. \n\nMinimum participant age is 6 years old. Child must be potty-trained\, be able to follow instructions\, and have completed at least one (1) year of kindergarten (grade school). *This is a drop off workshop. Parents should pick children back up at 7:30pm \nKIDS NIGHT OUT IS HELD WITHIN PARTY ROOM. MAIN STUDIO REMAINS OPEN DURING CLASS.
URL:https://mentor.busybeesart.com/event/kids-night-out-yeti/
LOCATION:Busy Bees Pottery & Arts Studio\, 7850 Mentor Ave\, Mentor\, OH\, 44060\, United States
CATEGORIES:Canvas Painting,Kids Night Out
ATTACH;FMTTYPE=image/png:https://mentor.busybeesart.com/wp-content/uploads/2023/12/Yeti-1.png
END:VEVENT
BEGIN:VEVENT
DTSTART;TZID=America/Detroit:20240124T180000
DTEND;TZID=America/Detroit:20240124T200000
DTSTAMP:20260419T204728
CREATED:20231221T223340Z
LAST-MODIFIED:20231222T163207Z
UID:10002004-1706119200-1706126400@mentor.busybeesart.com
SUMMARY:Adult Night Out: White Stag
DESCRIPTION:Join the Bees for a relaxing evening painting this gorgeous “White Stag” canvas. A Busy Bee artist will be on hand to guide you through the step by step process of creating this beautiful wintery design. Grab a a friend and register now! \nYour $29 ticket include a 16″x20″ canvas\, supplies and instructions. Projects will be available to take home at the conclusion of the workshop. \nThis is an adult BYOB event. Please feel free to bring a beverage or light snack of your choosing. \nPlease drink responsibly. \nBusy Bees does not provide any paper products or drinkware.
URL:https://mentor.busybeesart.com/event/adult-night-out-white-stag/
LOCATION:Busy Bees Pottery & Arts Studio\, 7850 Mentor Ave\, Mentor\, OH\, 44060\, United States
CATEGORIES:Adults Only,Canvas Painting
ATTACH;FMTTYPE=image/png:https://mentor.busybeesart.com/wp-content/uploads/2023/12/Mentor-Website-graphics-2022-2023-2.png
END:VEVENT
BEGIN:VEVENT
DTSTART;TZID=America/Detroit:20240131T180000
DTEND;TZID=America/Detroit:20240131T200000
DTSTAMP:20260419T204728
CREATED:20231221T224616Z
LAST-MODIFIED:20240131T153324Z
UID:10002009-1706724000-1706731200@mentor.busybeesart.com
SUMMARY:Adult Night Out: Summer Nights
DESCRIPTION:Join the Bees for a relaxing evening painting this gorgeous “Summer Nights” canvas. A Busy Bee artist will be on hand to guide you through the step by step process of creating this beautiful wintery design. Grab a a friend and register now! \nYour $29 ticket include a 16″x20″ canvas\, supplies and instructions. Projects will be available to take home at the conclusion of the workshop. \nThis is an adult BYOB event. Please feel free to bring a beverage or light snack of your choosing. \nPlease drink responsibly. \nBusy Bees does not provide any paper products or drinkware.
URL:https://mentor.busybeesart.com/event/adult-night-out-summer-nights/
LOCATION:Busy Bees Pottery & Arts Studio\, 7850 Mentor Ave\, Mentor\, OH\, 44060\, United States
CATEGORIES:Adults Only,Canvas Painting
ATTACH;FMTTYPE=image/png:https://mentor.busybeesart.com/wp-content/uploads/2023/12/Mentor-Website-graphics-2022-2023-3.png
END:VEVENT
END:VCALENDAR