BEGIN:VCALENDAR
VERSION:2.0
PRODID:-//Busy Bees Pottery &amp; Arts Studio Mentor - ECPv6.15.17.1//NONSGML v1.0//EN
CALSCALE:GREGORIAN
METHOD:PUBLISH
X-WR-CALNAME:Busy Bees Pottery &amp; Arts Studio Mentor
X-ORIGINAL-URL:https://mentor.busybeesart.com
X-WR-CALDESC:Events for Busy Bees Pottery &amp; Arts Studio Mentor
REFRESH-INTERVAL;VALUE=DURATION:PT1H
X-Robots-Tag:noindex
X-PUBLISHED-TTL:PT1H
BEGIN:VTIMEZONE
TZID:America/Detroit
BEGIN:DAYLIGHT
TZOFFSETFROM:-0500
TZOFFSETTO:-0400
TZNAME:EDT
DTSTART:20190310T070000
END:DAYLIGHT
BEGIN:STANDARD
TZOFFSETFROM:-0400
TZOFFSETTO:-0500
TZNAME:EST
DTSTART:20191103T060000
END:STANDARD
BEGIN:DAYLIGHT
TZOFFSETFROM:-0500
TZOFFSETTO:-0400
TZNAME:EDT
DTSTART:20200308T070000
END:DAYLIGHT
BEGIN:STANDARD
TZOFFSETFROM:-0400
TZOFFSETTO:-0500
TZNAME:EST
DTSTART:20201101T060000
END:STANDARD
BEGIN:DAYLIGHT
TZOFFSETFROM:-0500
TZOFFSETTO:-0400
TZNAME:EDT
DTSTART:20210314T070000
END:DAYLIGHT
BEGIN:STANDARD
TZOFFSETFROM:-0400
TZOFFSETTO:-0500
TZNAME:EST
DTSTART:20211107T060000
END:STANDARD
BEGIN:DAYLIGHT
TZOFFSETFROM:-0500
TZOFFSETTO:-0400
TZNAME:EDT
DTSTART:20220313T070000
END:DAYLIGHT
BEGIN:STANDARD
TZOFFSETFROM:-0400
TZOFFSETTO:-0500
TZNAME:EST
DTSTART:20221106T060000
END:STANDARD
END:VTIMEZONE
BEGIN:VEVENT
DTSTART;TZID=America/Detroit:20210116T100000
DTEND;TZID=America/Detroit:20210116T110000
DTSTAMP:20260419T153959
CREATED:20201228T193614Z
LAST-MODIFIED:20201228T193614Z
UID:10002066-1610791200-1610794800@mentor.busybeesart.com
SUMMARY:Yeti (Virtual Paint Event)
DESCRIPTION:The Yeti is here and he brought the cold weather with him. Stay warm and cozy at home for this virtual paint event for the kiddos. Have fun and be creative when you join us to paint “Yeti” from home on January 16th at 10am. \nSign up online and pick up your canvas kit curbside or in-studio at Busy Bees. Once you’ve registered\, Busy Bees will send you the Zoom link for the virtual paint party.
URL:https://mentor.busybeesart.com/event/yeti-virtual-paint-event/
LOCATION:Busy Bees’ Virtual Studio
CATEGORIES:Canvas Painting,Virtual Event
ATTACH;FMTTYPE=image/png:https://mentor.busybeesart.com/wp-content/uploads/2020/12/Yeti-Virtual.png
END:VEVENT
BEGIN:VEVENT
DTSTART;TZID=America/Detroit:20210109T180000
DTEND;TZID=America/Detroit:20210109T193000
DTSTAMP:20260419T153959
CREATED:20201228T200143Z
LAST-MODIFIED:20201228T200143Z
UID:10002068-1610215200-1610220600@mentor.busybeesart.com
SUMMARY:Winter Expressions: Canvas Painting Class
DESCRIPTION:Get your friends and learn to paint this beautiful painting\, “Winter Expressions” with Mrs. Bridget! This canvas design is a gorgeous compliment to your winter weather décor. \nTo keep everyone safe we are social distancing\, which means limited seating reserve your spot\, today! \n**This is a BYOB event\, feel free to bring in your favorite beverages and snacks to enjoy while painting. Registration is required**
URL:https://mentor.busybeesart.com/event/winter-expressions-canvas-painting-class/
LOCATION:Busy Bees Pottery & Arts Studio\, 7850 Mentor Ave\, Mentor\, OH\, 44060\, United States
CATEGORIES:Canvas Painting
ATTACH;FMTTYPE=image/jpeg:https://mentor.busybeesart.com/wp-content/uploads/2020/12/Winter-Expressions.jpg
END:VEVENT
BEGIN:VEVENT
DTSTART;TZID=America/Detroit:20210108T170000
DTEND;TZID=America/Detroit:20210108T183000
DTSTAMP:20260419T153959
CREATED:20201228T195735Z
LAST-MODIFIED:20201228T195735Z
UID:10002067-1610125200-1610130600@mentor.busybeesart.com
SUMMARY:Kids Night Out Paint Party: Roxy the Fox
DESCRIPTION:Sign the kids up for this fun “Kids Only” painting class at Busy Bees. The kiddos will create this super cute painting\, “Roxy the Arctic Fox”\, with a Busy Bees Art Instructor. While the kids are painting in the party room\, parents can enjoy 90 minutes of kid-free time!  If time permits we’ll play games after our painting is complete. \nPaint may stain clothing\, please have your child dressed in play clothes. \nDue to social distancing rules\, class size is limited. Don’t miss out\, sign up now! \n 
URL:https://mentor.busybeesart.com/event/kids-night-out-paint-party-roxy-the-fox/
LOCATION:Busy Bees Pottery & Arts Studio\, 7850 Mentor Ave\, Mentor\, OH\, 44060\, United States
CATEGORIES:Canvas Painting,Kids Night Out
ATTACH;FMTTYPE=image/jpeg:https://mentor.busybeesart.com/wp-content/uploads/2020/12/Roxy-Fox.jpg
END:VEVENT
BEGIN:VEVENT
DTSTART;TZID=America/Detroit:20201219T090000
DTEND;TZID=America/Detroit:20201219T100000
DTSTAMP:20260419T153959
CREATED:20201209T151906Z
LAST-MODIFIED:20201209T152923Z
UID:10002326-1608368400-1608372000@mentor.busybeesart.com
SUMMARY:Reindeer with Lights Virtual Paint Party
DESCRIPTION:Join the Bees online for a virtual paint party! We’re doing our annual Reindeer with Lights paint party online so we can have lots of friends join us! \nSign up online and pick up your canvas kit curbside or in-studio at Busy Bees. Once you’ve registered\, Busy Bees will send you the Zoom link for the virtual paint party. \nWhat a great way to start a winter weekend with jammies and painting!
URL:https://mentor.busybeesart.com/event/reindeer-with-lights-virtual-paint-party/
LOCATION:Busy Bees’ Virtual Studio
CATEGORIES:Canvas Painting,Family Canvas Class,Online Art Class
ATTACH;FMTTYPE=image/jpeg:https://mentor.busybeesart.com/wp-content/uploads/2020/12/Reindeer-w-Lights-Event.jpg
END:VEVENT
BEGIN:VEVENT
DTSTART;TZID=America/Detroit:20201128T160000
DTEND;TZID=America/Detroit:20201128T180000
DTSTAMP:20260419T153959
CREATED:20201006T170240Z
LAST-MODIFIED:20201006T170240Z
UID:10002278-1606579200-1606586400@mentor.busybeesart.com
SUMMARY:Private Paint Party: Sahara Sunset
DESCRIPTION:Content is protected.
URL:https://mentor.busybeesart.com/event/private-paint-party-sahara-sunset/
LOCATION:Busy Bees Pottery & Arts Studio\, 7850 Mentor Ave\, Mentor\, OH\, 44060\, United States
CATEGORIES:Canvas Painting
END:VEVENT
BEGIN:VEVENT
DTSTART;TZID=America/Detroit:20201121T090000
DTEND;TZID=America/Detroit:20201121T100000
DTSTAMP:20260419T153959
CREATED:20201017T124447Z
LAST-MODIFIED:20201114T204343Z
UID:10002313-1605949200-1605952800@mentor.busybeesart.com
SUMMARY:Tommy the Turkey: All Ages Paint Class
DESCRIPTION:Put on your jackets and hats and head up to the studio for a fun morning with your family painting silly “Tommy the Turkey”! Canvases are 12″x12″\, perfect size for our little artist friends. \nClass materials are included in the price and include the canvas\, paints\, use of brushes and instruction. Tommy will be available to take home at the end of the class.
URL:https://mentor.busybeesart.com/event/tommy-the-turkey-family-paint-class/
LOCATION:Busy Bees Pottery & Arts Studio\, 7850 Mentor Ave\, Mentor\, OH\, 44060\, United States
CATEGORIES:Canvas Painting,Family Canvas Class
ATTACH;FMTTYPE=image/png:https://mentor.busybeesart.com/wp-content/uploads/2020/10/Turkey-Canvas.png
END:VEVENT
BEGIN:VEVENT
DTSTART;TZID=America/Detroit:20201020T170000
DTEND;TZID=America/Detroit:20201020T190000
DTSTAMP:20260419T153959
CREATED:20201005T160115Z
LAST-MODIFIED:20201005T160115Z
UID:10002276-1603213200-1603220400@mentor.busybeesart.com
SUMMARY:Paint Party at SOL!
DESCRIPTION:Gather your best witchey friends and come up to SOL in downtown Willoughby for a spellbound paint night! Busy Bees will be onsite to lead the party in painting “Come We Fly”. \nAdmission ticket includes canvas and all supplies to create the painting and a complimentary glass of wine from SOL. **Seating is limited due to social distancing guidelines**
URL:https://mentor.busybeesart.com/event/paint-party-at-sol/
LOCATION:SOL\, 38257 Glenn Ave\, Willoughby\, OH\, 44094\, United States
CATEGORIES:Canvas Painting
ATTACH;FMTTYPE=image/jpeg:https://mentor.busybeesart.com/wp-content/uploads/2020/10/Fly-We-Come-Site.jpg
END:VEVENT
BEGIN:VEVENT
DTSTART;TZID=America/Detroit:20201009T160000
DTEND;TZID=America/Detroit:20201009T190000
DTSTAMP:20260419T153959
CREATED:20200910T125620Z
LAST-MODIFIED:20200910T125620Z
UID:10002273-1602259200-1602270000@mentor.busybeesart.com
SUMMARY:Fright Night
DESCRIPTION:Come join the Bees for a frightful Friday filled with your favorite scary holiday characters. \nRegistration fee not required\, pay for your project at the studio. Project prices vary. \nTo keep you safe we’re social distancing so there is limited seating. Book now and secure your spot!* \n*STUDIO REMAINS OPEN DURING PAINT EVENT*
URL:https://mentor.busybeesart.com/event/fright-night/
LOCATION:Busy Bees Pottery & Arts Studio\, 7850 Mentor Ave\, Mentor\, OH\, 44060\, United States
CATEGORIES:Canvas Painting,Pottery Painting,Studio Event
ATTACH;FMTTYPE=image/jpeg:https://mentor.busybeesart.com/wp-content/uploads/2020/09/Fright-Night.jpg
END:VEVENT
BEGIN:VEVENT
DTSTART;TZID=America/Detroit:20200924T170000
DTEND;TZID=America/Detroit:20200924T190000
DTSTAMP:20260419T153959
CREATED:20200910T114548Z
LAST-MODIFIED:20200910T115116Z
UID:10002266-1600966800-1600974000@mentor.busybeesart.com
SUMMARY:Harvest Moon Painting
DESCRIPTION:It may not be a full moon outside but it will be with the Bees.  Come join us in painting “Harvest Moon” and maybe we can learn to embrace the full moon loony-ness or would it be luney-ness. Get it! \nWorkshop includes all supplies (canvas\, and use of paints and brushes) and instruction. Canvas will be available to take home at the conclusion of the workshop. Space is limited due to social distancing – register now!
URL:https://mentor.busybeesart.com/event/harvest-moon-painting/
LOCATION:Busy Bees Pottery & Arts Studio\, 7850 Mentor Ave\, Mentor\, OH\, 44060\, United States
CATEGORIES:Adults Only,Canvas Painting
ATTACH;FMTTYPE=image/jpeg:https://mentor.busybeesart.com/wp-content/uploads/2020/09/Harvest-Moon.jpg
END:VEVENT
END:VCALENDAR