BEGIN:VCALENDAR
VERSION:2.0
PRODID:-//Busy Bees Pottery &amp; Arts Studio Mentor - ECPv6.15.17.1//NONSGML v1.0//EN
CALSCALE:GREGORIAN
METHOD:PUBLISH
X-WR-CALNAME:Busy Bees Pottery &amp; Arts Studio Mentor
X-ORIGINAL-URL:https://mentor.busybeesart.com
X-WR-CALDESC:Events for Busy Bees Pottery &amp; Arts Studio Mentor
REFRESH-INTERVAL;VALUE=DURATION:PT1H
X-Robots-Tag:noindex
X-PUBLISHED-TTL:PT1H
BEGIN:VTIMEZONE
TZID:America/Detroit
BEGIN:DAYLIGHT
TZOFFSETFROM:-0500
TZOFFSETTO:-0400
TZNAME:EDT
DTSTART:20240310T070000
END:DAYLIGHT
BEGIN:STANDARD
TZOFFSETFROM:-0400
TZOFFSETTO:-0500
TZNAME:EST
DTSTART:20241103T060000
END:STANDARD
BEGIN:DAYLIGHT
TZOFFSETFROM:-0500
TZOFFSETTO:-0400
TZNAME:EDT
DTSTART:20250309T070000
END:DAYLIGHT
BEGIN:STANDARD
TZOFFSETFROM:-0400
TZOFFSETTO:-0500
TZNAME:EST
DTSTART:20251102T060000
END:STANDARD
BEGIN:DAYLIGHT
TZOFFSETFROM:-0500
TZOFFSETTO:-0400
TZNAME:EDT
DTSTART:20260308T070000
END:DAYLIGHT
BEGIN:STANDARD
TZOFFSETFROM:-0400
TZOFFSETTO:-0500
TZNAME:EST
DTSTART:20261101T060000
END:STANDARD
END:VTIMEZONE
BEGIN:VEVENT
DTSTART;TZID=America/Detroit:20250305T180000
DTEND;TZID=America/Detroit:20250305T193000
DTSTAMP:20260420T073245
CREATED:20250210T203826Z
LAST-MODIFIED:20250210T203843Z
UID:10002805-1741197600-1741203000@mentor.busybeesart.com
SUMMARY:Design Your Own Fused Glass Wind Chimes!
DESCRIPTION:Learn the art of glass fusing by designing and creating super fun fused glass wind chimes! You can customize your color scheme to show your own personal pride or to support someone you love! The Bees will be on hand to guide you through the glass fusing process\, so no experience is necessary! \nYour $40 ticket includes one wind chime project\, supplies\, instruction and firing. Projects will be ready for pick up approximately 7-10 after completion.
URL:https://mentor.busybeesart.com/event/glass-wind-chimes/
LOCATION:Busy Bees Pottery & Arts Studio\, 7850 Mentor Ave\, Mentor\, OH\, 44060\, United States
CATEGORIES:Glass Fusing
ATTACH;FMTTYPE=image/png:https://mentor.busybeesart.com/wp-content/uploads/2025/02/glass-fusing-windchime.png
END:VEVENT
END:VCALENDAR