BEGIN:VCALENDAR
VERSION:2.0
PRODID:-//Busy Bees Pottery &amp; Arts Studio Mentor - ECPv6.15.17.1//NONSGML v1.0//EN
CALSCALE:GREGORIAN
METHOD:PUBLISH
X-WR-CALNAME:Busy Bees Pottery &amp; Arts Studio Mentor
X-ORIGINAL-URL:https://mentor.busybeesart.com
X-WR-CALDESC:Events for Busy Bees Pottery &amp; Arts Studio Mentor
REFRESH-INTERVAL;VALUE=DURATION:PT1H
X-Robots-Tag:noindex
X-PUBLISHED-TTL:PT1H
BEGIN:VTIMEZONE
TZID:America/Detroit
BEGIN:DAYLIGHT
TZOFFSETFROM:-0500
TZOFFSETTO:-0400
TZNAME:EDT
DTSTART:20190310T070000
END:DAYLIGHT
BEGIN:STANDARD
TZOFFSETFROM:-0400
TZOFFSETTO:-0500
TZNAME:EST
DTSTART:20191103T060000
END:STANDARD
BEGIN:DAYLIGHT
TZOFFSETFROM:-0500
TZOFFSETTO:-0400
TZNAME:EDT
DTSTART:20200308T070000
END:DAYLIGHT
BEGIN:STANDARD
TZOFFSETFROM:-0400
TZOFFSETTO:-0500
TZNAME:EST
DTSTART:20201101T060000
END:STANDARD
BEGIN:DAYLIGHT
TZOFFSETFROM:-0500
TZOFFSETTO:-0400
TZNAME:EDT
DTSTART:20210314T070000
END:DAYLIGHT
BEGIN:STANDARD
TZOFFSETFROM:-0400
TZOFFSETTO:-0500
TZNAME:EST
DTSTART:20211107T060000
END:STANDARD
END:VTIMEZONE
BEGIN:VEVENT
DTSTART;TZID=America/Detroit:20201217T170000
DTEND;TZID=America/Detroit:20201217T190000
DTSTAMP:20260420T143519
CREATED:20201124T225517Z
LAST-MODIFIED:20201209T160841Z
UID:10002314-1608224400-1608231600@mentor.busybeesart.com
SUMMARY:Alcohol Ink Decorative Trees
DESCRIPTION:Learn how to work with Alcohol Inks on pottery during this class! Busy Bees will teach you the techniques used to create these gorgeous trees! \nPaint 2 mini-trees for $19\, additional trees can be added for $8 each. Tress are painted with alcohol ink are not fired in the kilns\, you can take them home for display after the class.
URL:https://mentor.busybeesart.com/event/alcohol-ink-decorative-trees/
LOCATION:Busy Bees Pottery & Arts Studio\, 7850 Mentor Ave\, Mentor\, OH\, 44060\, United States
CATEGORIES:Mixed Media
ATTACH;FMTTYPE=image/png:https://mentor.busybeesart.com/wp-content/uploads/2020/11/Site-Event-Template-2.png
END:VEVENT
END:VCALENDAR