BEGIN:VCALENDAR
VERSION:2.0
PRODID:-//Busy Bees Pottery &amp; Arts Studio Mentor - ECPv6.15.17.1//NONSGML v1.0//EN
CALSCALE:GREGORIAN
METHOD:PUBLISH
X-WR-CALNAME:Busy Bees Pottery &amp; Arts Studio Mentor
X-ORIGINAL-URL:https://mentor.busybeesart.com
X-WR-CALDESC:Events for Busy Bees Pottery &amp; Arts Studio Mentor
REFRESH-INTERVAL;VALUE=DURATION:PT1H
X-Robots-Tag:noindex
X-PUBLISHED-TTL:PT1H
BEGIN:VTIMEZONE
TZID:America/Detroit
BEGIN:DAYLIGHT
TZOFFSETFROM:-0500
TZOFFSETTO:-0400
TZNAME:EDT
DTSTART:20230312T070000
END:DAYLIGHT
BEGIN:STANDARD
TZOFFSETFROM:-0400
TZOFFSETTO:-0500
TZNAME:EST
DTSTART:20231105T060000
END:STANDARD
BEGIN:DAYLIGHT
TZOFFSETFROM:-0500
TZOFFSETTO:-0400
TZNAME:EDT
DTSTART:20240310T070000
END:DAYLIGHT
BEGIN:STANDARD
TZOFFSETFROM:-0400
TZOFFSETTO:-0500
TZNAME:EST
DTSTART:20241103T060000
END:STANDARD
BEGIN:DAYLIGHT
TZOFFSETFROM:-0500
TZOFFSETTO:-0400
TZNAME:EDT
DTSTART:20250309T070000
END:DAYLIGHT
BEGIN:STANDARD
TZOFFSETFROM:-0400
TZOFFSETTO:-0500
TZNAME:EST
DTSTART:20251102T060000
END:STANDARD
END:VTIMEZONE
BEGIN:VEVENT
DTSTART;TZID=America/Detroit:20240208T180000
DTEND;TZID=America/Detroit:20240208T193000
DTSTAMP:20260421T003530
CREATED:20240129T214536Z
LAST-MODIFIED:20240130T190913Z
UID:10002168-1707415200-1707420600@mentor.busybeesart.com
SUMMARY:Ladies Night Out: Mosaic Hearts
DESCRIPTION:Join The Bees at the hive for a mosaic paint and sip. During this class you will be working with acrylic paints\, mosaic tiles & pebbles of your choice. You will be able to choose your own colors and decorations! This is an adults only crafting night\, additional  pieces can be purchased and painted during the event. \nYour piece will be ready to go home with you at the end of the event!
URL:https://mentor.busybeesart.com/event/ladies-night-out-mosaic-hearts/
LOCATION:Busy Bees Pottery & Arts Studio\, 7850 Mentor Ave\, Mentor\, OH\, 44060\, United States
CATEGORIES:Adults Only,Mosaics
ATTACH;FMTTYPE=image/png:https://mentor.busybeesart.com/wp-content/uploads/2024/01/Galantine.png
END:VEVENT
BEGIN:VEVENT
DTSTART;TZID=America/Detroit:20240223T180000
DTEND;TZID=America/Detroit:20240223T193000
DTSTAMP:20260421T003530
CREATED:20240131T175512Z
LAST-MODIFIED:20240223T203121Z
UID:10002712-1708711200-1708716600@mentor.busybeesart.com
SUMMARY:Kids' Night Out: Bee Mosaic
DESCRIPTION:Kids\, buzz on into the studio for a fun night out!  We will bee painting and decorating this adorable bee mosaic. The mosaics will be available for taking home at the end of the event. \n*This is a parent drop off workshop. Parents drop off their children and come back to pick them up once the workshop is over at 7:30pm.  Minimum participant age is 6 years old. Child must be potty-trained\, be able to follow instructions\, and have completed at least one (1) year of kindergarten (grade school). \nKIDS NIGHT OUT IS HELD WITHIN BUSY BEES’ PARTY ROOM. Main studio space remains open during class. REGISTRATION IS REQUIRED.
URL:https://mentor.busybeesart.com/event/kids-night-out-bee-mosaic/
LOCATION:Busy Bees Pottery & Arts Studio\, 7850 Mentor Ave\, Mentor\, OH\, 44060\, United States
CATEGORIES:Kids Night Out,Mosaics
ATTACH;FMTTYPE=image/png:https://mentor.busybeesart.com/wp-content/uploads/2024/01/feb-23rd-1.png
END:VEVENT
BEGIN:VEVENT
DTSTART;TZID=America/Detroit:20240227T180000
DTEND;TZID=America/Detroit:20240227T200000
DTSTAMP:20260421T003530
CREATED:20240131T173312Z
LAST-MODIFIED:20240131T173312Z
UID:10002709-1709056800-1709064000@mentor.busybeesart.com
SUMMARY:Create with Cocktails and The Bees @ Ballantine: Mosaic Sand Dollar
DESCRIPTION:Join the Bees at Ballantine in Downtown Willoughby for an exciting mixed media project\, combining painting and mosaic tiles on a fun 12″ sand dollar shaped base. Grab your friends and forget about the cold while getting creative and enjoying the amazing specials offered by Ballantine including half off wine bottles and apps! \nYou can paint and decorate your sand dollar and take it home after completion. \n 
URL:https://mentor.busybeesart.com/event/create-with-cocktails-and-the-bees-ballantine-mosaic-sand-dollar/
LOCATION:Ballantine\, 4113 Erie St\,\, Willoughby\, OH\, 44094\, United States
CATEGORIES:Adults Only,Mosaics
ATTACH;FMTTYPE=image/png:https://mentor.busybeesart.com/wp-content/uploads/2024/01/need-date-1.png
END:VEVENT
END:VCALENDAR