BEGIN:VCALENDAR
VERSION:2.0
PRODID:-//Busy Bees Pottery &amp; Arts Studio Mentor - ECPv6.15.17.1//NONSGML v1.0//EN
CALSCALE:GREGORIAN
METHOD:PUBLISH
X-WR-CALNAME:Busy Bees Pottery &amp; Arts Studio Mentor
X-ORIGINAL-URL:https://mentor.busybeesart.com
X-WR-CALDESC:Events for Busy Bees Pottery &amp; Arts Studio Mentor
REFRESH-INTERVAL;VALUE=DURATION:PT1H
X-Robots-Tag:noindex
X-PUBLISHED-TTL:PT1H
BEGIN:VTIMEZONE
TZID:America/Detroit
BEGIN:DAYLIGHT
TZOFFSETFROM:-0500
TZOFFSETTO:-0400
TZNAME:EDT
DTSTART:20200308T070000
END:DAYLIGHT
BEGIN:STANDARD
TZOFFSETFROM:-0400
TZOFFSETTO:-0500
TZNAME:EST
DTSTART:20201101T060000
END:STANDARD
BEGIN:DAYLIGHT
TZOFFSETFROM:-0500
TZOFFSETTO:-0400
TZNAME:EDT
DTSTART:20210314T070000
END:DAYLIGHT
BEGIN:STANDARD
TZOFFSETFROM:-0400
TZOFFSETTO:-0500
TZNAME:EST
DTSTART:20211107T060000
END:STANDARD
BEGIN:DAYLIGHT
TZOFFSETFROM:-0500
TZOFFSETTO:-0400
TZNAME:EDT
DTSTART:20220313T070000
END:DAYLIGHT
BEGIN:STANDARD
TZOFFSETFROM:-0400
TZOFFSETTO:-0500
TZNAME:EST
DTSTART:20221106T060000
END:STANDARD
END:VTIMEZONE
BEGIN:VEVENT
DTSTART;TZID=America/Detroit:20211005T173000
DTEND;TZID=America/Detroit:20211005T200000
DTSTAMP:20260423T022626
CREATED:20210904T171220Z
LAST-MODIFIED:20210904T171220Z
UID:10002464-1633455000-1633464000@mentor.busybeesart.com
SUMMARY:Halloween Tree Painting Party – Adult Night Out
DESCRIPTION:Join us for a spooktacular good time painting everyone’s favorite vintage ceramic trees with a spooky or harvest themed twist. \nThe Bees will be on hand to help you create your creepy or cute vision for your tree of choice. Stop in anytime after 5:30pm for a fun evening of painting! \nYou can pre-order a certain size (call the studio or stop in and pre-purchase) or choose from what we have in stock the evening of the event. \n*This is a BYOB event\, feel free to bring snacks and drinks (remember to bring paper products and cups for whatever you bring). \n*The $10 non-refundable deposit will go towards the balance for project on day of workshop. Workshop includes all supplies (pottery\, and use of paints and brushes) and instruction. Piece will be available to take home approximately one week after the workshop.
URL:https://mentor.busybeesart.com/event/halloween-tree-painting-party-adult-night-out/
LOCATION:Busy Bees Pottery & Arts Studio\, 7850 Mentor Ave\, Mentor\, OH\, 44060\, United States
CATEGORIES:All Ages Pottery Painting,Pottery Painting
ATTACH;FMTTYPE=image/jpeg:https://mentor.busybeesart.com/wp-content/uploads/2021/09/tree-painting.jpg
END:VEVENT
BEGIN:VEVENT
DTSTART;TZID=America/Detroit:20211016T110000
DTEND;TZID=America/Detroit:20211016T170000
DTSTAMP:20260423T022626
CREATED:20210925T220149Z
LAST-MODIFIED:20210925T220149Z
UID:10002148-1634382000-1634403600@mentor.busybeesart.com
SUMMARY:Monster Mash: Family Paint Day
DESCRIPTION:Head up to the studio with friends and  family for a fun class painting this canister into your favorite monster treasure box\, candy jar\, you name it! \nCan’t think of how to paint it?! Don’t you worry\, we will be there to help make sure yours is scary good. \n*Registration is required prior to the workshop. Pieces will be ready for pick up approximately one week after the workshop
URL:https://mentor.busybeesart.com/event/monster-mash/
LOCATION:Busy Bees Pottery & Arts Studio\, 7850 Mentor Ave\, Mentor\, OH\, 44060\, United States
CATEGORIES:All Ages Pottery Painting,Pottery Painting,Studio Event
ATTACH;FMTTYPE=image/png:https://mentor.busybeesart.com/wp-content/uploads/2021/09/7.png
END:VEVENT
BEGIN:VEVENT
DTSTART;TZID=America/Detroit:20211019T180000
DTEND;TZID=America/Detroit:20211019T200000
DTSTAMP:20260423T022626
CREATED:20210904T195130Z
LAST-MODIFIED:20210904T195130Z
UID:10002475-1634666400-1634673600@mentor.busybeesart.com
SUMMARY:Harvest Gnomies: Pottery Painting Class
DESCRIPTION:Join us to create a “Harvest Gnomies” Platter! We will have different size stencils and platters available to you the day of this event. Pick your style and colors at the studio. \n*This $10 non-refundable deposit will be deducted from your project total the day of the event.\n**Pieces will be ready for pickup 1 week after the event
URL:https://mentor.busybeesart.com/event/harvest-gnomies-pottery-painting-class/
LOCATION:Busy Bees Pottery & Arts Studio\, 7850 Mentor Ave\, Mentor\, OH\, 44060\, United States
CATEGORIES:Pottery Painting
ATTACH;FMTTYPE=image/jpeg:https://mentor.busybeesart.com/wp-content/uploads/2021/09/harvest-gnome.jpg
END:VEVENT
BEGIN:VEVENT
DTSTART;TZID=America/Detroit:20211019T180000
DTEND;TZID=America/Detroit:20211019T200000
DTSTAMP:20260423T022626
CREATED:20210930T165704Z
LAST-MODIFIED:20211015T234108Z
UID:10002485-1634666400-1634673600@mentor.busybeesart.com
SUMMARY:Tree Painting Party at Billy's
DESCRIPTION:Gather your best witches for a fun evening of pottery painting\, $8 martinis\, and lots of cackling and spell casting! Busy Bees will be flying over to Billy’s Martini Bar on October 19th for an evening of pottery painting. Each attendee will paint this adorably spooky tree votive! Not feeling spooky or witchy? No problem\, the Bees will be bringing lots of glaze colors to paint your tree votive for your favorite holiday. \nRegistration includes pottery\, glazes\, materials\, and supplies. Votives will be brought back to the Busy Bees studio for kiln firing to give your piece that beautiful glossed finish. Votives will be available for pick up approximately one week after the event.
URL:https://mentor.busybeesart.com/event/tree-painting-party-at-billys/
LOCATION:Billy’s Martini Bar\, 7338 INDUSTRIAL PARK BOULEVARD\, Mentor\, OH\, 44060\, United States
CATEGORIES:Adults Only,Pottery Painting
ATTACH;FMTTYPE=image/png:https://mentor.busybeesart.com/wp-content/uploads/2021/09/September-Site-2021.png
END:VEVENT
END:VCALENDAR