BEGIN:VCALENDAR
VERSION:2.0
PRODID:-//Busy Bees Pottery &amp; Arts Studio Mentor - ECPv6.15.17.1//NONSGML v1.0//EN
CALSCALE:GREGORIAN
METHOD:PUBLISH
X-WR-CALNAME:Busy Bees Pottery &amp; Arts Studio Mentor
X-ORIGINAL-URL:https://mentor.busybeesart.com
X-WR-CALDESC:Events for Busy Bees Pottery &amp; Arts Studio Mentor
REFRESH-INTERVAL;VALUE=DURATION:PT1H
X-Robots-Tag:noindex
X-PUBLISHED-TTL:PT1H
BEGIN:VTIMEZONE
TZID:America/Detroit
BEGIN:DAYLIGHT
TZOFFSETFROM:-0500
TZOFFSETTO:-0400
TZNAME:EDT
DTSTART:20200308T070000
END:DAYLIGHT
BEGIN:STANDARD
TZOFFSETFROM:-0400
TZOFFSETTO:-0500
TZNAME:EST
DTSTART:20201101T060000
END:STANDARD
BEGIN:DAYLIGHT
TZOFFSETFROM:-0500
TZOFFSETTO:-0400
TZNAME:EDT
DTSTART:20210314T070000
END:DAYLIGHT
BEGIN:STANDARD
TZOFFSETFROM:-0400
TZOFFSETTO:-0500
TZNAME:EST
DTSTART:20211107T060000
END:STANDARD
BEGIN:DAYLIGHT
TZOFFSETFROM:-0500
TZOFFSETTO:-0400
TZNAME:EDT
DTSTART:20220313T070000
END:DAYLIGHT
BEGIN:STANDARD
TZOFFSETFROM:-0400
TZOFFSETTO:-0500
TZNAME:EST
DTSTART:20221106T060000
END:STANDARD
END:VTIMEZONE
BEGIN:VEVENT
DTSTART;TZID=America/Detroit:20211109T180000
DTEND;TZID=America/Detroit:20211109T200000
DTSTAMP:20260422T094205
CREATED:20211020T205422Z
LAST-MODIFIED:20211109T001622Z
UID:10002153-1636480800-1636488000@mentor.busybeesart.com
SUMMARY:Plentiful Platters: Pottery Painting Class
DESCRIPTION:Create something festive and beautiful for your holiday bounty! The Bee artists will be leading this class and showing different techniques and lettering to make yourself a custom serving tray or platter. These make great gifts and giving plates too! \nThis is a BYOB event\, please feel free to bring in snacks and beverages to enjoy during class. The $10 deposit will be applied to your project total at the class. Choose from a variety of shapes and sizes of pottery to create the perfect piece!
URL:https://mentor.busybeesart.com/event/plentiful-platters-pottery-painting-class/
LOCATION:Busy Bees Pottery & Arts Studio\, 7850 Mentor Ave\, Mentor\, OH\, 44060\, United States
CATEGORIES:Adults Only,Pottery Painting
ATTACH;FMTTYPE=image/png:https://mentor.busybeesart.com/wp-content/uploads/2021/10/Plentiful-Platters.png
END:VEVENT
BEGIN:VEVENT
DTSTART;TZID=America/Detroit:20211112T180000
DTEND;TZID=America/Detroit:20211112T203000
DTSTAMP:20260422T094205
CREATED:20211020T212842Z
LAST-MODIFIED:20211021T115022Z
UID:10002492-1636740000-1636749000@mentor.busybeesart.com
SUMMARY:Grateful AF: Adult Only Paint Party
DESCRIPTION:Sign up for this hilarious night of painting with your trash talkin’ friends! We’ll be expressing on pottery how truly “grateful af” we are on pottery. Have a favorite phrase you use? The Bees will help you express yourself on the pottery. This is a must attend class for anyone that knows the taste of soap! \nThis is a BYOB event\, bring in your favorite beverages and snacks to enjoy during the class. \n*$10 deposit will be deducted from the total cost of your project(s) made at the class. Pieces are kiln fired and will be available to pick up 5 – 7 days after the class.
URL:https://mentor.busybeesart.com/event/grateful/
LOCATION:Busy Bees Pottery & Arts Studio\, 7850 Mentor Ave\, Mentor\, OH\, 44060\, United States
CATEGORIES:Adults Only,Pottery Painting
ATTACH;FMTTYPE=image/png:https://mentor.busybeesart.com/wp-content/uploads/2021/10/Grateful-AF.png
END:VEVENT
BEGIN:VEVENT
DTSTART;TZID=America/Detroit:20211113T110000
DTEND;TZID=America/Detroit:20211113T120000
DTSTAMP:20260422T094205
CREATED:20211021T120704Z
LAST-MODIFIED:20211021T120704Z
UID:10002160-1636801200-1636804800@mentor.busybeesart.com
SUMMARY:Little Bees Pottery: Autumn Owl Plate
DESCRIPTION:LITTLE BEES! Toddlers and Kiddies Ages 18 months – 5 years old are welcome to come out and create this cute autumn owl plate! First we will paint and use our finger prints to make leaves. The Bees will do complimentary personalization for your treasured keepsake! \nThere must be at least one parent/guardian per child. Project will be available for pick up 7 days after event. \n*This paint is non-toxic and washes right out of clothing with just water.
URL:https://mentor.busybeesart.com/event/little-bees-pottery-autumn-owl-plate/
LOCATION:Busy Bees Pottery & Arts Studio\, 7850 Mentor Ave\, Mentor\, OH\, 44060\, United States
CATEGORIES:Pottery Painting
ATTACH;FMTTYPE=image/jpeg:https://mentor.busybeesart.com/wp-content/uploads/2021/10/Site-LITTLE-BEES-SPRINGFIELD.jpg
END:VEVENT
BEGIN:VEVENT
DTSTART;TZID=America/Detroit:20211119T183000
DTEND;TZID=America/Detroit:20211119T203000
DTSTAMP:20260422T094205
CREATED:20211028T175612Z
LAST-MODIFIED:20211116T193708Z
UID:10002167-1637346600-1637353800@mentor.busybeesart.com
SUMMARY:SOI's Ornament Paint Party!
DESCRIPTION:Content is protected.
URL:https://mentor.busybeesart.com/event/sois-ornament-paint-party/
LOCATION:School of Innovation\, 32500 Chardon Rd.\, Willoughby\, OH\, 44094\, United States
CATEGORIES:Pottery Painting
END:VEVENT
END:VCALENDAR