BEGIN:VCALENDAR
VERSION:2.0
PRODID:-//Busy Bees Pottery &amp; Arts Studio Mentor - ECPv6.15.17.1//NONSGML v1.0//EN
CALSCALE:GREGORIAN
METHOD:PUBLISH
X-WR-CALNAME:Busy Bees Pottery &amp; Arts Studio Mentor
X-ORIGINAL-URL:https://mentor.busybeesart.com
X-WR-CALDESC:Events for Busy Bees Pottery &amp; Arts Studio Mentor
REFRESH-INTERVAL;VALUE=DURATION:PT1H
X-Robots-Tag:noindex
X-PUBLISHED-TTL:PT1H
BEGIN:VTIMEZONE
TZID:America/Detroit
BEGIN:DAYLIGHT
TZOFFSETFROM:-0500
TZOFFSETTO:-0400
TZNAME:EDT
DTSTART:20200308T070000
END:DAYLIGHT
BEGIN:STANDARD
TZOFFSETFROM:-0400
TZOFFSETTO:-0500
TZNAME:EST
DTSTART:20201101T060000
END:STANDARD
BEGIN:DAYLIGHT
TZOFFSETFROM:-0500
TZOFFSETTO:-0400
TZNAME:EDT
DTSTART:20210314T070000
END:DAYLIGHT
BEGIN:STANDARD
TZOFFSETFROM:-0400
TZOFFSETTO:-0500
TZNAME:EST
DTSTART:20211107T060000
END:STANDARD
BEGIN:DAYLIGHT
TZOFFSETFROM:-0500
TZOFFSETTO:-0400
TZNAME:EDT
DTSTART:20220313T070000
END:DAYLIGHT
BEGIN:STANDARD
TZOFFSETFROM:-0400
TZOFFSETTO:-0500
TZNAME:EST
DTSTART:20221106T060000
END:STANDARD
END:VTIMEZONE
BEGIN:VEVENT
DTSTART;TZID=America/Detroit:20210206T110000
DTEND;TZID=America/Detroit:20210206T170000
DTSTAMP:20260421T204323
CREATED:20210117T155044Z
LAST-MODIFIED:20210205T150119Z
UID:10002078-1612609200-1612630800@mentor.busybeesart.com
SUMMARY:Best Friends Day!
DESCRIPTION:Spend the day painting pottery\, making candles\, painting canvas doing something fun with your BFF on February 6th! We are taking the day to celebrate those dearest to us and make our world’s better. Reserve your spot for a fun day of creating with loved and cherished friends. \n*Projects are paid for at the event\, pricing varies per project*
URL:https://mentor.busybeesart.com/event/best-friends-day/
LOCATION:Busy Bees Pottery & Arts Studio\, 7850 Mentor Ave\, Mentor\, OH\, 44060\, United States
CATEGORIES:Canvas Painting,Studio Event
ATTACH;FMTTYPE=image/jpeg:https://mentor.busybeesart.com/wp-content/uploads/2021/01/Site-Event-Template-2-1.jpg
END:VEVENT
BEGIN:VEVENT
DTSTART;TZID=America/Detroit:20210207T110000
DTEND;TZID=America/Detroit:20210207T160000
DTSTAMP:20260421T204323
CREATED:20210117T155956Z
LAST-MODIFIED:20210117T155956Z
UID:10002080-1612695600-1612713600@mentor.busybeesart.com
SUMMARY:Paint Your Own Pottery 'Grams
DESCRIPTION:Come hangout with the Bees and paint your own ‘pottery gram’ for your valentine! The Bees have templates with cute pictures and fancy lettering to trace onto your pottery piece. \nPieces will be available 1 week after workshop. \n$10 reservation fee\, pay the remaining amount day of workshop. Plate shapes\, size\, and prices vary.
URL:https://mentor.busybeesart.com/event/paint-your-own-pottery-grams/
LOCATION:Busy Bees Pottery & Arts Studio\, 7850 Mentor Ave\, Mentor\, OH\, 44060\, United States
CATEGORIES:All Ages Pottery Painting,Studio Event
ATTACH;FMTTYPE=image/png:https://mentor.busybeesart.com/wp-content/uploads/2021/01/Site-Event-Template-2.png
END:VEVENT
BEGIN:VEVENT
DTSTART;TZID=America/Detroit:20210213T110000
DTEND;TZID=America/Detroit:20210213T170000
DTSTAMP:20260421T204323
CREATED:20210117T161843Z
LAST-MODIFIED:20210117T161843Z
UID:10002088-1613214000-1613235600@mentor.busybeesart.com
SUMMARY:Pet Lover's Day
DESCRIPTION:Whether you are a proud parent of a fur-baby or just a lover of animals\, come out to Busy Bees for a fun day of painting pottery with your pet! We will have many pet and animal related projects to choose from! $10 entry fee saves your seat\, as well as goes towards the cost of your project the day of. Projects vary in cost.
URL:https://mentor.busybeesart.com/event/pet-lovers-day/
LOCATION:Busy Bees Pottery & Arts Studio\, 7850 Mentor Ave\, Mentor\, OH\, 44060\, United States
CATEGORIES:Pottery Painting,Studio Event
ATTACH;FMTTYPE=image/jpeg:https://mentor.busybeesart.com/wp-content/uploads/2021/01/Pets-Painting.jpg
END:VEVENT
BEGIN:VEVENT
DTSTART;TZID=America/Detroit:20210214T110000
DTEND;TZID=America/Detroit:20210214T170000
DTSTAMP:20260421T204323
CREATED:20210209T163800Z
LAST-MODIFIED:20210214T184747Z
UID:10002345-1613300400-1613322000@mentor.busybeesart.com
SUMMARY:Valentine’s Reservations!
DESCRIPTION:Bring your loved one(s) to the studio on Valentine’s Day for special time to create and spend time together! The Bees will be on hand to help you pick and create the perfect project to make. \nTable reservations are $10 and will be applied to the cost of your project.
URL:https://mentor.busybeesart.com/event/valentines-reservations/
LOCATION:Busy Bees Pottery & Arts Studio\, 7850 Mentor Ave\, Mentor\, OH\, 44060\, United States
CATEGORIES:Studio Event
ATTACH;FMTTYPE=image/jpeg:https://mentor.busybeesart.com/wp-content/uploads/2021/02/Vday-Reservations-FB.jpg
END:VEVENT
END:VCALENDAR