BEGIN:VCALENDAR
VERSION:2.0
PRODID:-//Busy Bees Pottery &amp; Arts Studio Mentor - ECPv6.15.17.1//NONSGML v1.0//EN
CALSCALE:GREGORIAN
METHOD:PUBLISH
X-WR-CALNAME:Busy Bees Pottery &amp; Arts Studio Mentor
X-ORIGINAL-URL:https://mentor.busybeesart.com
X-WR-CALDESC:Events for Busy Bees Pottery &amp; Arts Studio Mentor
REFRESH-INTERVAL;VALUE=DURATION:PT1H
X-Robots-Tag:noindex
X-PUBLISHED-TTL:PT1H
BEGIN:VTIMEZONE
TZID:America/Detroit
BEGIN:DAYLIGHT
TZOFFSETFROM:-0500
TZOFFSETTO:-0400
TZNAME:EDT
DTSTART:20200308T070000
END:DAYLIGHT
BEGIN:STANDARD
TZOFFSETFROM:-0400
TZOFFSETTO:-0500
TZNAME:EST
DTSTART:20201101T060000
END:STANDARD
BEGIN:DAYLIGHT
TZOFFSETFROM:-0500
TZOFFSETTO:-0400
TZNAME:EDT
DTSTART:20210314T070000
END:DAYLIGHT
BEGIN:STANDARD
TZOFFSETFROM:-0400
TZOFFSETTO:-0500
TZNAME:EST
DTSTART:20211107T060000
END:STANDARD
BEGIN:DAYLIGHT
TZOFFSETFROM:-0500
TZOFFSETTO:-0400
TZNAME:EDT
DTSTART:20220313T070000
END:DAYLIGHT
BEGIN:STANDARD
TZOFFSETFROM:-0400
TZOFFSETTO:-0500
TZNAME:EST
DTSTART:20221106T060000
END:STANDARD
END:VTIMEZONE
BEGIN:VEVENT
DTSTART;TZID=America/Detroit:20210504T110000
DTEND;TZID=America/Detroit:20210504T180000
DTSTAMP:20260421T043422
CREATED:20210408T164719Z
LAST-MODIFIED:20210408T164719Z
UID:10002116-1620126000-1620151200@mentor.busybeesart.com
SUMMARY:May The 4th Be With You Paint Event
DESCRIPTION:We are SO SUPER EXCITED that the day has come that we have the STAR WARS™ collection here\, in our hive\, at our studio\, within our walls… right here in Mentor!\n\nWhat better day to celebrate these incredible pieces than May 4th?! Not only do we have inventory\, but we also have lots of cool project idea too.\n\n\n\nReserve a table for you and your crew and explore all the cool project ideas we have for the mediums we offer in studio.\n\nCome paint with us!\n\n\n$10 reserves a table and will be taken off the total price that day of t he event. Prices vary per project. Limited pieces.
URL:https://mentor.busybeesart.com/event/may-the-4th-be-with-you-paint-event/
LOCATION:Busy Bees Pottery & Arts Studio\, 7850 Mentor Ave\, Mentor\, OH\, 44060\, United States
CATEGORIES:All Ages Pottery Painting,Studio Event
ATTACH;FMTTYPE=image/jpeg:https://mentor.busybeesart.com/wp-content/uploads/2021/04/Site-Event-Template-9.jpg
END:VEVENT
BEGIN:VEVENT
DTSTART;TZID=America/Detroit:20210509T110000
DTEND;TZID=America/Detroit:20210509T170000
DTSTAMP:20260421T043422
CREATED:20210418T152326Z
LAST-MODIFIED:20210418T152326Z
UID:10002414-1620558000-1620579600@mentor.busybeesart.com
SUMMARY:Mother's Day Reservations
DESCRIPTION:Spend quality time with Mom at Busy Bees! Reserve your table for a wonderful afternoon creating memories together. \nPrices and project options vary.
URL:https://mentor.busybeesart.com/event/mothers-day-reservations/
LOCATION:Busy Bees Pottery & Arts Studio\, 7850 Mentor Ave\, Mentor\, OH\, 44060\, United States
CATEGORIES:Studio Event
ATTACH;FMTTYPE=image/png:https://mentor.busybeesart.com/wp-content/uploads/2021/04/Mothers-Day-Reservation-Graphic-1.png
END:VEVENT
BEGIN:VEVENT
DTSTART;TZID=America/Detroit:20210529T110000
DTEND;TZID=America/Detroit:20210529T190000
DTSTAMP:20260421T043422
CREATED:20210418T164519Z
LAST-MODIFIED:20210418T164538Z
UID:10002415-1622286000-1622314800@mentor.busybeesart.com
SUMMARY:Acrylic Pouring with Kaitlyn!
DESCRIPTION:Have you always wanted to create a super cool acrylic pour but didn’t know how to create all the cool designs and patterns or didn’t want the mess at home? Busy Bees is opening the studio for a fun day of acrylic pouring with our Resident Acrylic Pouring Expert\, Kaitlyn! \nKaitlyn will teach different pour techniques to maximize the number of cells and depth to your painting. Sign up for your timeslot below. This is “must attend” class! Pours will be done on 8″x10″ canvas. Additional canvases can be purchased and created at your session. \n*Projects will be available to take home at the end of the session*
URL:https://mentor.busybeesart.com/event/acrylic-pouring-with-kaitlyn/
LOCATION:Busy Bees Pottery & Arts Studio\, 7850 Mentor Ave\, Mentor\, OH\, 44060\, United States
CATEGORIES:Mixed Media,Studio Event
ATTACH;FMTTYPE=image/jpeg:https://mentor.busybeesart.com/wp-content/uploads/2021/04/Copy-of-Site-Event-Template-3.jpg
END:VEVENT
BEGIN:VEVENT
DTSTART;TZID=America/Detroit:20210531T110000
DTEND;TZID=America/Detroit:20210531T160000
DTSTAMP:20260421T043422
CREATED:20210528T121612Z
LAST-MODIFIED:20210528T121902Z
UID:10002418-1622458800-1622476800@mentor.busybeesart.com
SUMMARY:Memorial Day Hours
DESCRIPTION:The Bees will be in the hive to create with you from 11am – 4pm. Pottery painting\, mosaics\, glass fusing\, candle making\, canvas painting…all family fun! \nReserve your table for an afternoon of together time!
URL:https://mentor.busybeesart.com/event/memorial-day-hours/
LOCATION:Busy Bees Pottery & Arts Studio\, 7850 Mentor Ave\, Mentor\, OH\, 44060\, United States
CATEGORIES:Studio Event
ATTACH;FMTTYPE=image/jpeg:https://mentor.busybeesart.com/wp-content/uploads/2021/05/Memorial-Day.jpg
END:VEVENT
END:VCALENDAR