BEGIN:VCALENDAR
VERSION:2.0
PRODID:-//Busy Bees Pottery &amp; Arts Studio Mentor - ECPv6.15.17.1//NONSGML v1.0//EN
CALSCALE:GREGORIAN
METHOD:PUBLISH
X-WR-CALNAME:Busy Bees Pottery &amp; Arts Studio Mentor
X-ORIGINAL-URL:https://mentor.busybeesart.com
X-WR-CALDESC:Events for Busy Bees Pottery &amp; Arts Studio Mentor
REFRESH-INTERVAL;VALUE=DURATION:PT1H
X-Robots-Tag:noindex
X-PUBLISHED-TTL:PT1H
BEGIN:VTIMEZONE
TZID:America/Detroit
BEGIN:DAYLIGHT
TZOFFSETFROM:-0500
TZOFFSETTO:-0400
TZNAME:EDT
DTSTART:20200308T070000
END:DAYLIGHT
BEGIN:STANDARD
TZOFFSETFROM:-0400
TZOFFSETTO:-0500
TZNAME:EST
DTSTART:20201101T060000
END:STANDARD
BEGIN:DAYLIGHT
TZOFFSETFROM:-0500
TZOFFSETTO:-0400
TZNAME:EDT
DTSTART:20210314T070000
END:DAYLIGHT
BEGIN:STANDARD
TZOFFSETFROM:-0400
TZOFFSETTO:-0500
TZNAME:EST
DTSTART:20211107T060000
END:STANDARD
BEGIN:DAYLIGHT
TZOFFSETFROM:-0500
TZOFFSETTO:-0400
TZNAME:EDT
DTSTART:20220313T070000
END:DAYLIGHT
BEGIN:STANDARD
TZOFFSETFROM:-0400
TZOFFSETTO:-0500
TZNAME:EST
DTSTART:20221106T060000
END:STANDARD
END:VTIMEZONE
BEGIN:VEVENT
DTSTART;TZID=America/Detroit:20210402T110000
DTEND;TZID=America/Detroit:20210402T180000
DTSTAMP:20260421T170225
CREATED:20210322T182138Z
LAST-MODIFIED:20210330T165100Z
UID:10002411-1617361200-1617386400@mentor.busybeesart.com
SUMMARY:Easter EGG-TRAVAGANZA!
DESCRIPTION:Make & take eggs and peeps are what we’ll be doing on Friday\, April 2nd.  Join us at the studio to paint some fun eggs and peeps to take home just in time for the Easter Bunny! Choose from painting with acrylic paint or alcohol inks (shown in photo). The Bees will be on hand to help you create some pretty and cool Easter décor. \nEach attendee registered will paint 2 items (egg and/or peep) per registration. Want to paint more than 2? No problem\, additional pieces may be purchased at the event. \n*STUDIO REMAINS OPEN FROM 11AM – 7PM FOR PAINTING\, CANDLE MAKING\, AND ALL THE ART FUN* \n 
URL:https://mentor.busybeesart.com/event/easter-egg-travaganza/
LOCATION:Busy Bees Pottery & Arts Studio\, 7850 Mentor Ave\, Mentor\, OH\, 44060\, United States
CATEGORIES:Studio Event
ATTACH;FMTTYPE=image/jpeg:https://mentor.busybeesart.com/wp-content/uploads/2021/03/Egg-travaganza-1.jpg
END:VEVENT
END:VCALENDAR